BEGIN:VCALENDAR
VERSION:2.0
PRODID:-//www.insightmcc.org//NONSGML kigkonsult.se iCalcreator 2.30.10//
CALSCALE:GREGORIAN
METHOD:PUBLISH
UID:9b24e2e0-b644-43b9-a6d8-8eb902870401
X-WR-CALDESC:Do you ever wonder if a lapse in memory is something more? It’
 s easy to misplace your keys\, forget the name of someone you just met\, o
 r make a mistake balancing your checkbook. When is it time to seek a docto
 r’s advice? Learn more about the warning signs of dementia.\n\nThis event 
 is virtually hosted by Mere Apne Seniors of Durga Temple and presented by 
 Insight Memory Care Center.
X-WR-RELCALID:a3707c213b94c8b32cfb33f1a2400e37
X-WR-TIMEZONE:America/New_York
BEGIN:VTIMEZONE
TZID:America/New_York
BEGIN:STANDARD
TZNAME:EST
DTSTART:20231105T020000
TZOFFSETFROM:-0400
TZOFFSETTO:-0500
RDATE:20241103T020000
END:STANDARD
BEGIN:DAYLIGHT
TZNAME:EDT
DTSTART:20230312T020000
TZOFFSETFROM:-0500
TZOFFSETTO:-0400
RDATE:20240310T020000
RDATE:20250309T020000
END:DAYLIGHT
END:VTIMEZONE
BEGIN:VEVENT
UID:4df4e71e-2902-4a7b-a250-738f1ef9484c
DTSTAMP:20260421T194643Z
DESCRIPTION:Do you ever wonder if a lapse in memory is something more? It’s
  easy to misplace your keys\, forget the name of someone you just met\, or
  make a mistake balancing your checkbook. When is it time to seek a doctor
 ’s advice? Learn more about the warning signs of dementia.\n\nThis event i
 s virtually hosted by Mere Apne Seniors of Durga Temple and presented by I
 nsight Memory Care Center.
DTSTART;TZID=America/New_York:20240110T180000
DTEND;TZID=America/New_York:20240110T190000
LOCATION:https://zoom.us/j/91383351963?pwd=ZHJ5ZGQwRm9MN01Va2lsamJSdWFGQT09
SUMMARY:Warning Signs of Dementia
END:VEVENT
END:VCALENDAR
