BEGIN:VCALENDAR
VERSION:2.0
PRODID:-//www.insightmcc.org//NONSGML kigkonsult.se iCalcreator 2.30.10//
CALSCALE:GREGORIAN
METHOD:PUBLISH
UID:cb7e21b4-59ec-4763-9830-b93bf74110ad
X-WR-CALDESC:This group will offer a safe\, welcoming and private setting f
 or caregivers to share their caregiving experiences\, connect with others 
 going through the same journey and receive insight from an expert.\n\nFor 
 this session the presentation will be Self Care for the Caregiver\, presen
 ted by Melissa Long\, Director of Education & Support at IMCC! Taking care
  of yourself – physically and mentally – is one of the most important thin
 gs you can do as a caregiver. Learn more and practice helpful techniques. 
 \n\nPlease contact the event contact listed below to register.
X-WR-RELCALID:18ab7724b57ba917fb2b8c47a4c83159
X-WR-TIMEZONE:America/New_York
BEGIN:VTIMEZONE
TZID:America/New_York
BEGIN:STANDARD
TZNAME:EST
DTSTART:20231105T020000
TZOFFSETFROM:-0400
TZOFFSETTO:-0500
RDATE:20241103T020000
END:STANDARD
BEGIN:DAYLIGHT
TZNAME:EDT
DTSTART:20230312T020000
TZOFFSETFROM:-0500
TZOFFSETTO:-0400
RDATE:20240310T020000
RDATE:20250309T020000
END:DAYLIGHT
END:VTIMEZONE
BEGIN:VEVENT
UID:dd423f38-599f-422e-af7f-0854c9baa742
DTSTAMP:20260421T195827Z
DESCRIPTION:This group will offer a safe\, welcoming and private setting fo
 r caregivers to share their caregiving experiences\, connect with others g
 oing through the same journey and receive insight from an expert.\n\nFor t
 his session the presentation will be Self Care for the Caregiver\, present
 ed by Melissa Long\, Director of Education & Support at IMCC! Taking care 
 of yourself – physically and mentally – is one of the most important thing
 s you can do as a caregiver. Learn more and practice helpful techniques. 
 \n\nPlease contact the event contact listed below to register.
DTSTART;TZID=America/New_York:20240111T150000
DTEND;TZID=America/New_York:20240111T160000
LOCATION:Great Falls Assisted Living\, 1121 Reston Ave\, Herndon\, VA 20170
  US
SUMMARY:Caregiver Support Group - Self Care for the Caregiver
END:VEVENT
END:VCALENDAR
