BEGIN:VCALENDAR
VERSION:2.0
PRODID:-//www.insightmcc.org//NONSGML kigkonsult.se iCalcreator 2.30.10//
CALSCALE:GREGORIAN
METHOD:PUBLISH
UID:fb5ce818-34d0-497c-af13-ad362341c002
X-WR-CALDESC:The Kensington Reston Aphasia Memory Cafe is a monthly social 
 gathering for caregivers & loved ones with progressive aphasia and mild me
 mory loss.\n\nDeepen connections with your loved one and build new support
  networks in a safe\, supportive and engaging environment. The Kensington 
 Reston is partnering with Insight Memory Care Center to host Memory Café\,
  a monthly engagement program of activities\, recreation\, peer support an
 d socialization for individuals showing early signs of memory loss and pro
 gressive aphasia and their caregivers. Every gathering is geared toward ke
 eping the mind active during the early stages of progressive aphasia and i
 mproving communication and connection between caregivers and loved ones to
  the greatest degree possible.
X-WR-RELCALID:69c68baacc262629a9915ef59b8acf1e
X-WR-TIMEZONE:America/New_York
BEGIN:VTIMEZONE
TZID:America/New_York
BEGIN:STANDARD
TZNAME:EST
DTSTART:20231105T020000
TZOFFSETFROM:-0400
TZOFFSETTO:-0500
RDATE:20241103T020000
END:STANDARD
BEGIN:DAYLIGHT
TZNAME:EDT
DTSTART:20230312T020000
TZOFFSETFROM:-0500
TZOFFSETTO:-0400
RDATE:20240310T020000
RDATE:20250309T020000
END:DAYLIGHT
END:VTIMEZONE
BEGIN:VEVENT
UID:635b6623-7f50-46ad-8863-1bc9baed55d2
DTSTAMP:20260421T195248Z
DESCRIPTION:The Kensington Reston Aphasia Memory Cafe is a monthly social g
 athering for caregivers & loved ones with progressive aphasia and mild mem
 ory loss.\n\nDeepen connections with your loved one and build new support 
 networks in a safe\, supportive and engaging environment. The Kensington R
 eston is partnering with Insight Memory Care Center to host Memory Café\, 
 a monthly engagement program of activities\, recreation\, peer support and
  socialization for individuals showing early signs of memory loss and prog
 ressive aphasia and their caregivers. Every gathering is geared toward kee
 ping the mind active during the early stages of progressive aphasia and im
 proving communication and connection between caregivers and loved ones to 
 the greatest degree possible.
DTSTART;TZID=America/New_York:20240116T103000
DTEND;TZID=America/New_York:20240116T113000
LOCATION:The Kensington Reston\, 11501 Sunrise Valley Dr\, Reston\, VA 2019
 1 US
SUMMARY:Kensington Reston Aphasia Memory Cafe
END:VEVENT
END:VCALENDAR
