BEGIN:VCALENDAR
VERSION:2.0
PRODID:-//www.insightmcc.org//NONSGML kigkonsult.se iCalcreator 2.30.10//
CALSCALE:GREGORIAN
METHOD:PUBLISH
UID:3caa3067-2707-4db0-8d3f-431ea2daf251
X-WR-CALDESC:Senior Services of Alexandria presents “Senior Living in Alexa
 ndria” Monthly Speaker Series. January's topic is Strategies & Resources f
 or Caregivers of Older Adults.\n\nThis annual event features local experts
  on programs and services for those serving as caregivers and their loved 
 ones.\nThe organizations include:\nAlexandria Adult Day Service Center\nCh
 erry Blossom PACE\nInsight Memory Care Center\nRegional Older Adults Facil
 ities Dementia Support Team (RAFT)\nBelleview Medical Partners\n\n\nPlease
  contact Senior Services of Alexandria at the email or phone number listed
  below to register.\n
X-WR-RELCALID:4cc013749faed3e868c091e3eb6d7360
X-WR-TIMEZONE:America/New_York
BEGIN:VTIMEZONE
TZID:America/New_York
BEGIN:STANDARD
TZNAME:EST
DTSTART:20231105T020000
TZOFFSETFROM:-0400
TZOFFSETTO:-0500
RDATE:20241103T020000
END:STANDARD
BEGIN:DAYLIGHT
TZNAME:EDT
DTSTART:20230312T020000
TZOFFSETFROM:-0500
TZOFFSETTO:-0400
RDATE:20240310T020000
RDATE:20250309T020000
END:DAYLIGHT
END:VTIMEZONE
BEGIN:VEVENT
UID:5a6b0586-cd50-4f3f-9e2f-8ca06154c5bd
DTSTAMP:20260421T195400Z
DESCRIPTION:Senior Services of Alexandria presents “Senior Living in Alexan
 dria” Monthly Speaker Series. January's topic is Strategies & Resources fo
 r Caregivers of Older Adults.\n\nThis annual event features local experts 
 on programs and services for those serving as caregivers and their loved o
 nes.\nThe organizations include:\nAlexandria Adult Day Service Center\nChe
 rry Blossom PACE\nInsight Memory Care Center\nRegional Older Adults Facili
 ties Dementia Support Team (RAFT)\nBelleview Medical Partners\n\n\nPlease 
 contact Senior Services of Alexandria at the email or phone number listed 
 below to register.\n
DTSTART;TZID=America/New_York:20240117T103000
DTEND;TZID=America/New_York:20240117T113000
LOCATION:Beatley Library\, 5005 Duke St\, Alexandria\, VA 22304 US
SUMMARY:“Empowering Caregivers” — Strategies & Resources for Older Adult Ca
 regivers
END:VEVENT
END:VCALENDAR
