BEGIN:VCALENDAR
VERSION:2.0
PRODID:-//www.insightmcc.org//NONSGML kigkonsult.se iCalcreator 2.30.10//
CALSCALE:GREGORIAN
METHOD:PUBLISH
UID:c78d382c-b05c-4dd3-b724-7576dc9872bf
X-WR-CALDESC:Learn the basics of dementia\, including Alzheimer’s disease a
 nd other dementias. While not everyone travels the same path\, come and le
 arn about the general stages to help you anticipate future changes.\n\nThi
 s program is presented by the Insight Memory Care Team at the Lorton Senio
 r Center. Please contact the event contact listed below to register.
X-WR-RELCALID:f2e9e5940b909e3812e3e17c7144f1a0
X-WR-TIMEZONE:America/New_York
BEGIN:VTIMEZONE
TZID:America/New_York
BEGIN:STANDARD
TZNAME:EST
DTSTART:20231105T020000
TZOFFSETFROM:-0400
TZOFFSETTO:-0500
RDATE:20241103T020000
END:STANDARD
BEGIN:DAYLIGHT
TZNAME:EDT
DTSTART:20230312T020000
TZOFFSETFROM:-0500
TZOFFSETTO:-0400
RDATE:20240310T020000
RDATE:20250309T020000
END:DAYLIGHT
END:VTIMEZONE
BEGIN:VEVENT
UID:9644c2e0-dc93-441b-be1c-a3ee140d7bbf
DTSTAMP:20260421T193142Z
DESCRIPTION:Learn the basics of dementia\, including Alzheimer’s disease an
 d other dementias. While not everyone travels the same path\, come and lea
 rn about the general stages to help you anticipate future changes.\n\nThis
  program is presented by the Insight Memory Care Team at the Lorton Senior
  Center. Please contact the event contact listed below to register.
DTSTART;TZID=America/New_York:20240119T130000
DTEND;TZID=America/New_York:20240119T140000
LOCATION:Lorton Senior Center\, 7722 Gunston Plz\, Lorton\, VA 22079 US
SUMMARY:Dementia 101
END:VEVENT
END:VCALENDAR
