BEGIN:VCALENDAR
VERSION:2.0
PRODID:-//www.insightmcc.org//NONSGML kigkonsult.se iCalcreator 2.30.10//
CALSCALE:GREGORIAN
METHOD:PUBLISH
UID:c98ac029-3f0e-46fc-985a-0c785107a47a
X-WR-CALDESC:<strong>**Event POSTPONED**</strong>\n<em>Due to the icy roads
  and more snow in the forecast\, we will be postponing this session of our
  Caregiver Bootcamp. We have rescheduled for Saturday February 10! </em>\n
 &nbsp\;\n\nJoin IMCC for a free\, special morning training event covering 
 many essential caregiving topics! \n\nTopics for this session include:\n\n
 <b>What Do I Ask the Neurologist?</b>\nPresented by: Dr. Jennifer Pauldura
 i\nIt’s important to gather as much information from your doctor as you ca
 n. Asking the right questions can help you navigate your appointments and 
 this journey.\n\n<b> Dementia & Dental Care</b>\nPresented by: District Mo
 bile Dentistry\nDental work can be difficult for an individual as dementia
  progresses\, and they may not understand what is happening during a denta
 l visit. Learn how to approach this common challenge with your loved one.
 \n\n<b>Navigating Legal Paperwork</b>\nPresented by: Geller Law Firm\nTher
 e are so many ‘what if’s\, and ‘what comes next’s’ in navigating your care
 giving journey. Learn more about what paperwork you need to get in order a
 nd receive guidance from a legal perspective.\n\n<b> Sponsored by Great Fa
 lls Assisted Living! </b>\n\n&nbsp\;\n<strong><a href='https://insightmemo
 ry.app.neoncrm.com/eventReg.jsp?event=1244&' class='button'>Sign Me Up!</a
 ></strong>
X-WR-RELCALID:10d0039b4555bf570ab2b951015ea819
X-WR-TIMEZONE:America/New_York
BEGIN:VTIMEZONE
TZID:America/New_York
BEGIN:STANDARD
TZNAME:EST
DTSTART:20231105T020000
TZOFFSETFROM:-0400
TZOFFSETTO:-0500
RDATE:20241103T020000
END:STANDARD
BEGIN:DAYLIGHT
TZNAME:EDT
DTSTART:20230312T020000
TZOFFSETFROM:-0500
TZOFFSETTO:-0400
RDATE:20240310T020000
RDATE:20250309T020000
END:DAYLIGHT
END:VTIMEZONE
BEGIN:VEVENT
UID:b51d3b41-b50f-49c2-a7d2-fca73f0390b4
DTSTAMP:20260421T194058Z
DESCRIPTION:<strong>**Event POSTPONED**</strong>\n<em>Due to the icy roads 
 and more snow in the forecast\, we will be postponing this session of our 
 Caregiver Bootcamp. We have rescheduled for Saturday February 10! </em>\n&
 nbsp\;\n\nJoin IMCC for a free\, special morning training event covering m
 any essential caregiving topics! \n\nTopics for this session include:\n\n<
 b>What Do I Ask the Neurologist?</b>\nPresented by: Dr. Jennifer Pauldurai
 \nIt’s important to gather as much information from your doctor as you can
 . Asking the right questions can help you navigate your appointments and t
 his journey.\n\n<b> Dementia & Dental Care</b>\nPresented by: District Mob
 ile Dentistry\nDental work can be difficult for an individual as dementia 
 progresses\, and they may not understand what is happening during a dental
  visit. Learn how to approach this common challenge with your loved one.\n
 \n<b>Navigating Legal Paperwork</b>\nPresented by: Geller Law Firm\nThere 
 are so many ‘what if’s\, and ‘what comes next’s’ in navigating your caregi
 ving journey. Learn more about what paperwork you need to get in order and
  receive guidance from a legal perspective.\n\n<b> Sponsored by Great Fall
 s Assisted Living! </b>\n\n&nbsp\;\n<strong><a href='https://insightmemory
 .app.neoncrm.com/eventReg.jsp?event=1244&' class='button'>Sign Me Up!</a><
 /strong>
DTSTART;TZID=America/New_York:20240120T090000
DTEND;TZID=America/New_York:20240120T120000
LOCATION:Mazawey Education and Support Center - Insight Fairfax\, 3955 Pend
 er Drive Suite 100\, Fairfax\, VA 22030 US
SUMMARY:Caregiver Bootcamp - POSTPONED
END:VEVENT
END:VCALENDAR
