BEGIN:VCALENDAR
VERSION:2.0
PRODID:-//www.insightmcc.org//NONSGML kigkonsult.se iCalcreator 2.30.10//
CALSCALE:GREGORIAN
METHOD:PUBLISH
UID:9da33b04-0e91-4258-bf6e-b62cb36bc069
X-WR-CALDESC:The café is an opportunity for caregivers and their loved one 
 with mild cognitive impairment (MCI) or in the early to early mid-stage of
  their dementia journey to meet with others for support\, companionship\, 
 and fun! The program provides structured activities to promote reminiscenc
 e\, cognition\, and engagement. There is also time to share in conversatio
 n and get to know others in a safe\, supportive environment.\n\nThis café 
 meets at Greenspring on the 3rd Wednesday of the month. <b> For the Januar
 y 2024 café we will meet on 1/24 instead of 1/17!</b>\n\nTo ensure we have
  space and program supplies for each participant\, we ask that you please 
 register in advance. We look forward to seeing you at the next cafe!
X-WR-RELCALID:d62fcfdabb9bbce8ee96d68dcf87bac8
X-WR-TIMEZONE:America/New_York
BEGIN:VTIMEZONE
TZID:America/New_York
BEGIN:STANDARD
TZNAME:EST
DTSTART:20231105T020000
TZOFFSETFROM:-0400
TZOFFSETTO:-0500
RDATE:20241103T020000
END:STANDARD
BEGIN:DAYLIGHT
TZNAME:EDT
DTSTART:20230312T020000
TZOFFSETFROM:-0500
TZOFFSETTO:-0400
RDATE:20240310T020000
RDATE:20250309T020000
END:DAYLIGHT
END:VTIMEZONE
BEGIN:VEVENT
UID:dee50394-580a-407e-a51c-f844d03580c1
DTSTAMP:20260421T200832Z
DESCRIPTION:The café is an opportunity for caregivers and their loved one w
 ith mild cognitive impairment (MCI) or in the early to early mid-stage of 
 their dementia journey to meet with others for support\, companionship\, a
 nd fun! The program provides structured activities to promote reminiscence
 \, cognition\, and engagement. There is also time to share in conversation
  and get to know others in a safe\, supportive environment.\n\nThis café m
 eets at Greenspring on the 3rd Wednesday of the month. <b> For the January
  2024 café we will meet on 1/24 instead of 1/17!</b>\n\nTo ensure we have 
 space and program supplies for each participant\, we ask that you please r
 egister in advance. We look forward to seeing you at the next cafe!
DTSTART;TZID=America/New_York:20240124T101500
DTEND;TZID=America/New_York:20240124T111500
LOCATION:7410 Spring Village Dr\, Springfield\, AL 22150 US
SUMMARY:Greenspring Senior Living Community Memory Cafe
END:VEVENT
END:VCALENDAR
