BEGIN:VCALENDAR
VERSION:2.0
PRODID:-//www.insightmcc.org//NONSGML kigkonsult.se iCalcreator 2.30.10//
CALSCALE:GREGORIAN
METHOD:PUBLISH
UID:4966da50-26ce-43da-a459-96d992d8c74e
X-WR-CALDESC:This new year\, learn the resources you need to better underst
 and your aging loved one’s behavior and emotional state so you both can ha
 ve a more pleasant caregiving journey. Join Melissa Long\, Insight Memory 
 Care Center\, as she shares professional insight on how to adapt and which
  best practices to follow when your loved one starts exhibiting challengin
 g behavior.
X-WR-RELCALID:0d92ad45ccf88befb1373cdb656a3e40
X-WR-TIMEZONE:America/New_York
BEGIN:VTIMEZONE
TZID:America/New_York
BEGIN:STANDARD
TZNAME:EST
DTSTART:20231105T020000
TZOFFSETFROM:-0400
TZOFFSETTO:-0500
RDATE:20241103T020000
END:STANDARD
BEGIN:DAYLIGHT
TZNAME:EDT
DTSTART:20230312T020000
TZOFFSETFROM:-0500
TZOFFSETTO:-0400
RDATE:20240310T020000
RDATE:20250309T020000
END:DAYLIGHT
END:VTIMEZONE
BEGIN:VEVENT
UID:43782085-c579-4fb8-a887-b372e96e605a
DTSTAMP:20260421T194713Z
DESCRIPTION:This new year\, learn the resources you need to better understa
 nd your aging loved one’s behavior and emotional state so you both can hav
 e a more pleasant caregiving journey. Join Melissa Long\, Insight Memory C
 are Center\, as she shares professional insight on how to adapt and which 
 best practices to follow when your loved one starts exhibiting challenging
  behavior.
DTSTART;TZID=America/New_York:20240125T180000
DTEND;TZID=America/New_York:20240125T190000
LOCATION:The Kensington Falls Church\, 700 West Broad Street\, Falls Church
 \, VA 22046 US
SUMMARY:Understanding Challenging Behaviors in Your Aging Loved One
END:VEVENT
END:VCALENDAR
