BEGIN:VCALENDAR
VERSION:2.0
PRODID:-//www.insightmcc.org//NONSGML kigkonsult.se iCalcreator 2.30.10//
CALSCALE:GREGORIAN
METHOD:PUBLISH
UID:58b5576e-98e6-488d-9d3e-80fd0e4942ea
X-WR-CALDESC:Learn the basics of dementia\, including Alzheimer’s disease a
 nd other dementias. While not everyone travels the same path\, come and le
 arn about the general stages to help you anticipate future changes.\n\nThi
 s program is presented by the Insight Memory Care Team at the Ashburn Libr
 ary.  <b>The program will be held in ROOM C.</b>\n\nPlease contact the eve
 nt contact listed below to register.
X-WR-RELCALID:6e72a90b4b39daec9f5ee2940bddd6c5
X-WR-TIMEZONE:America/New_York
BEGIN:VTIMEZONE
TZID:America/New_York
BEGIN:STANDARD
TZNAME:EST
DTSTART:20231105T020000
TZOFFSETFROM:-0400
TZOFFSETTO:-0500
RDATE:20241103T020000
END:STANDARD
BEGIN:DAYLIGHT
TZNAME:EDT
DTSTART:20230312T020000
TZOFFSETFROM:-0500
TZOFFSETTO:-0400
RDATE:20240310T020000
RDATE:20250309T020000
END:DAYLIGHT
END:VTIMEZONE
BEGIN:VEVENT
UID:d2fe561c-f25e-41ea-a831-80cdf3f1285f
DTSTAMP:20260421T193122Z
DESCRIPTION:Learn the basics of dementia\, including Alzheimer’s disease an
 d other dementias. While not everyone travels the same path\, come and lea
 rn about the general stages to help you anticipate future changes.\n\nThis
  program is presented by the Insight Memory Care Team at the Ashburn Libra
 ry.  <b>The program will be held in ROOM C.</b>\n\nPlease contact the even
 t contact listed below to register.
DTSTART;TZID=America/New_York:20240130T190000
DTEND;TZID=America/New_York:20240130T200000
LOCATION:Ashburn Library\, 43316 Hay Road\, Ashburn\, VA 20147 US
SUMMARY:Dementia 101
END:VEVENT
END:VCALENDAR
