BEGIN:VCALENDAR
VERSION:2.0
PRODID:-//www.insightmcc.org//NONSGML kigkonsult.se iCalcreator 2.30.10//
CALSCALE:GREGORIAN
METHOD:PUBLISH
UID:29ba5230-6af5-4812-9ce5-f167789337b6
X-WR-CALDESC:Join us for the critically acclaimed autobiographical story of
  a man who faces his diagnosis of Alzheimer’s disease by actor and playwri
 ght Samuel A. Simon. In this full-length theatrical piece\, Simon takes th
 e stage as a man facing his cognitive decline and asks the hard questions 
 of what to do next in the face of what he calls “an existential journey.” 
 It is a peek into the head and heart of the struggle with a broken medical
  system and a personal and family challenge.\n\nThe play challenges the au
 dience to imagine a meaningful future for the millions of people with neur
 ocognitive disease\, with accommodation and adaptation.\n\n&nbsp\;\n<stron
 g><a href='https://insightmemory.app.neoncrm.com/eventReg.jsp?event=1117&'
  target='_blank' class='button' rel='noreferrer noopener'>Sign Me Up!</a><
 /strong>\n
X-WR-RELCALID:8ae9e0acee9ed62d18a22f5fe9fe1c66
X-WR-TIMEZONE:America/New_York
BEGIN:VTIMEZONE
TZID:America/New_York
BEGIN:STANDARD
TZNAME:EST
DTSTART:20231105T020000
TZOFFSETFROM:-0400
TZOFFSETTO:-0500
RDATE:20241103T020000
END:STANDARD
BEGIN:DAYLIGHT
TZNAME:EDT
DTSTART:20230312T020000
TZOFFSETFROM:-0500
TZOFFSETTO:-0400
RDATE:20240310T020000
RDATE:20250309T020000
END:DAYLIGHT
END:VTIMEZONE
BEGIN:VEVENT
UID:2499e69f-b7bd-4ddb-a641-1109c2b09314
DTSTAMP:20260421T194429Z
DESCRIPTION:Join us for the critically acclaimed autobiographical story of 
 a man who faces his diagnosis of Alzheimer’s disease by actor and playwrig
 ht Samuel A. Simon. In this full-length theatrical piece\, Simon takes the
  stage as a man facing his cognitive decline and asks the hard questions o
 f what to do next in the face of what he calls “an existential journey.” I
 t is a peek into the head and heart of the struggle with a broken medical 
 system and a personal and family challenge.\n\nThe play challenges the aud
 ience to imagine a meaningful future for the millions of people with neuro
 cognitive disease\, with accommodation and adaptation.\n\n&nbsp\;\n<strong
 ><a href='https://insightmemory.app.neoncrm.com/eventReg.jsp?event=1117&' 
 target='_blank' class='button' rel='noreferrer noopener'>Sign Me Up!</a></
 strong>\n
DTSTART;TZID=America/New_York:20240131T190000
DTEND;TZID=America/New_York:20240131T200000
LOCATION:Insight Memory Care Center - Fairfax\, 3953 Pender Drive Suite 100
 \, Fairfax\, VA 22030 US
SUMMARY:Dementia Man: An Existential Journey - Live Performance
END:VEVENT
END:VCALENDAR
