BEGIN:VCALENDAR
VERSION:2.0
PRODID:-//www.insightmcc.org//NONSGML kigkonsult.se iCalcreator 2.30.10//
CALSCALE:GREGORIAN
METHOD:PUBLISH
UID:7b960cc7-100d-442d-b0bd-ecc4e54ec606
X-WR-CALDESC:The caregiving journey will have you experiencing many highs a
 nd lows. We’ll discuss the variety of emotions that are often felt by care
 givers and tips on going along for the ride.\n\nThis program is presented 
 by the Insight Memory Care Team at the Green Acres Community Center. <b> P
 lease reach out to Green Acres Community Center at (703) 293 7119 in order
  to sign up! </b>
X-WR-RELCALID:9b54be4c53a68e342f41b62b5914bd0a
X-WR-TIMEZONE:America/New_York
BEGIN:VTIMEZONE
TZID:America/New_York
BEGIN:STANDARD
TZNAME:EST
DTSTART:20231105T020000
TZOFFSETFROM:-0400
TZOFFSETTO:-0500
RDATE:20241103T020000
END:STANDARD
BEGIN:DAYLIGHT
TZNAME:EDT
DTSTART:20230312T020000
TZOFFSETFROM:-0500
TZOFFSETTO:-0400
RDATE:20240310T020000
RDATE:20250309T020000
END:DAYLIGHT
END:VTIMEZONE
BEGIN:VEVENT
UID:eb3ca1ca-0c41-41a9-a31c-fa537561d46e
DTSTAMP:20260421T182225Z
DESCRIPTION:The caregiving journey will have you experiencing many highs an
 d lows. We’ll discuss the variety of emotions that are often felt by careg
 ivers and tips on going along for the ride.\n\nThis program is presented b
 y the Insight Memory Care Team at the Green Acres Community Center. <b> Pl
 ease reach out to Green Acres Community Center at (703) 293 7119 in order 
 to sign up! </b>
DTSTART;TZID=America/New_York:20240201T143000
DTEND;TZID=America/New_York:20240201T153000
LOCATION:Green Acres Community Center\, 4401 Sideburn Road\, Fairfax\, AL 2
 2030 US
SUMMARY:Taking Care of Yourself: Tips to Survive Caregiving
END:VEVENT
END:VCALENDAR
