BEGIN:VCALENDAR
VERSION:2.0
PRODID:-//www.insightmcc.org//NONSGML kigkonsult.se iCalcreator 2.30.10//
CALSCALE:GREGORIAN
METHOD:PUBLISH
UID:cebeed0f-b406-488f-8f83-e9af38419bc3
X-WR-CALDESC:This group will offer a safe\, welcoming and private setting f
 or caregivers to share their caregiving experiences\, connect with others 
 going through the same journey and receive insight from an expert. There w
 ill also be group discussions and educational presentations about relevant
  caregiving topics.\n\nFor the February 2024 group the topic will be: Are 
 They Doing That on Purpose? Understanding Behaviors.\nFor those with demen
 tia\, sometimes the only form of communication provided is through behavio
 r\, both positive and negative. Come and learn strategies for dealing with
  difficult behaviors and how to work with them when it seems impossible!\n
 \nPlease contact the event contact listed below to register.
X-WR-RELCALID:4c0b65325093bb19a91eda6cd9354dad
X-WR-TIMEZONE:America/New_York
BEGIN:VTIMEZONE
TZID:America/New_York
BEGIN:STANDARD
TZNAME:EST
DTSTART:20231105T020000
TZOFFSETFROM:-0400
TZOFFSETTO:-0500
RDATE:20241103T020000
END:STANDARD
BEGIN:DAYLIGHT
TZNAME:EDT
DTSTART:20230312T020000
TZOFFSETFROM:-0500
TZOFFSETTO:-0400
RDATE:20240310T020000
RDATE:20250309T020000
END:DAYLIGHT
END:VTIMEZONE
BEGIN:VEVENT
UID:252c1d2d-cad5-4360-98d1-0c06919a7e5a
DTSTAMP:20260421T182229Z
DESCRIPTION:This group will offer a safe\, welcoming and private setting fo
 r caregivers to share their caregiving experiences\, connect with others g
 oing through the same journey and receive insight from an expert. There wi
 ll also be group discussions and educational presentations about relevant 
 caregiving topics.\n\nFor the February 2024 group the topic will be: Are T
 hey Doing That on Purpose? Understanding Behaviors.\nFor those with dement
 ia\, sometimes the only form of communication provided is through behavior
 \, both positive and negative. Come and learn strategies for dealing with 
 difficult behaviors and how to work with them when it seems impossible!\n
 \nPlease contact the event contact listed below to register.
DTSTART;TZID=America/New_York:20240208T150000
DTEND;TZID=America/New_York:20240208T160000
LOCATION:Great Falls Assisted Living\, 1121 Reston Ave\, Herndon\, VA 20170
  US
SUMMARY:Caregiver Support Group - Are They Doing That on Purpose? Understan
 ding Behaviors
END:VEVENT
END:VCALENDAR
