BEGIN:VCALENDAR
VERSION:2.0
PRODID:-//www.insightmcc.org//NONSGML kigkonsult.se iCalcreator 2.30.10//
CALSCALE:GREGORIAN
METHOD:PUBLISH
UID:dffb7c3c-9f20-4414-8dab-76ccca7a38e0
X-WR-CALDESC:<b>**Event Rescheduled from 1/20**</b>\n \n\nJoin IMCC for a f
 ree\, special morning training event covering many essential caregiving to
 pics!\n\nTopics for this session include:\n\nWhat Do I Ask the Neurologist
 ?\nPresented by: Dr. Jennifer Pauldurai\nIt’s important to gather as much 
 information from your doctor as you can. Asking the right questions can he
 lp you navigate your appointments and this journey.\n\nDementia & Dental C
 are\nPresented by: District Mobile Dentistry\nDental work can be difficult
  for an individual as dementia progresses\, and they may not understand wh
 at is happening during a dental visit. Learn how to approach this common c
 hallenge with your loved one.\n\nNavigating Legal Paperwork\nPresented by:
  Geller Law Firm\nThere are so many ‘what if’s\, and ‘what comes next’s’ i
 n navigating your caregiving journey. Learn more about what paperwork you 
 need to get in order and receive guidance from a legal perspective.\n\nSpo
 nsored by Great Falls Assisted Living!\n\n\n&nbsp\;\n<strong><a href='http
 s://insightmemory.app.neoncrm.com/eventReg.jsp?event=1244&' class='button'
 >Sign Me Up!</a></strong>
X-WR-RELCALID:54851680dc618a67f90d5327a5289345
X-WR-TIMEZONE:America/New_York
BEGIN:VTIMEZONE
TZID:America/New_York
BEGIN:STANDARD
TZNAME:EST
DTSTART:20231105T020000
TZOFFSETFROM:-0400
TZOFFSETTO:-0500
RDATE:20241103T020000
END:STANDARD
BEGIN:DAYLIGHT
TZNAME:EDT
DTSTART:20230312T020000
TZOFFSETFROM:-0500
TZOFFSETTO:-0400
RDATE:20240310T020000
RDATE:20250309T020000
END:DAYLIGHT
END:VTIMEZONE
BEGIN:VEVENT
UID:c750d8f0-7f52-4ce9-b7f8-bc357da81c04
DTSTAMP:20260421T181908Z
DESCRIPTION:<b>**Event Rescheduled from 1/20**</b>\n \n\nJoin IMCC for a fr
 ee\, special morning training event covering many essential caregiving top
 ics!\n\nTopics for this session include:\n\nWhat Do I Ask the Neurologist?
 \nPresented by: Dr. Jennifer Pauldurai\nIt’s important to gather as much i
 nformation from your doctor as you can. Asking the right questions can hel
 p you navigate your appointments and this journey.\n\nDementia & Dental Ca
 re\nPresented by: District Mobile Dentistry\nDental work can be difficult 
 for an individual as dementia progresses\, and they may not understand wha
 t is happening during a dental visit. Learn how to approach this common ch
 allenge with your loved one.\n\nNavigating Legal Paperwork\nPresented by: 
 Geller Law Firm\nThere are so many ‘what if’s\, and ‘what comes next’s’ in
  navigating your caregiving journey. Learn more about what paperwork you n
 eed to get in order and receive guidance from a legal perspective.\n\nSpon
 sored by Great Falls Assisted Living!\n\n\n&nbsp\;\n<strong><a href='https
 ://insightmemory.app.neoncrm.com/eventReg.jsp?event=1244&' class='button'>
 Sign Me Up!</a></strong>
DTSTART;TZID=America/New_York:20240210T090000
DTEND;TZID=America/New_York:20240210T120000
LOCATION:Mazawey Education and Support Center - Insight Fairfax\, 3955 Pend
 er Drive\, Suite 100\, Fairfax\, VA 22030 US
SUMMARY:Caregiver Bootcamp - Rescheduled Date!
END:VEVENT
END:VCALENDAR
