BEGIN:VCALENDAR
VERSION:2.0
PRODID:-//www.insightmcc.org//NONSGML kigkonsult.se iCalcreator 2.30.10//
CALSCALE:GREGORIAN
METHOD:PUBLISH
UID:ef0cb345-2309-4566-8fb4-a61fd294fca7
X-WR-CALDESC:Food not only provides us with nutritional needs but also brin
 gs us joy and pleasure. That can change as we age. Taste buds change\, den
 tal health can be more challenging\, arthritis can make food prep painful\
 , and medications and mood disorders can steal our appetite. Let’s learn s
 ome quick\, easy\, and healthy ways to meet those needs.\n\nThis class is 
 offered by the The Osher Lifelong Learning Institute (OLLI) at George Maso
 n University. Presented by Melissa Long\, Director of Education & Support 
 at Insight Memory Care Center.
X-WR-RELCALID:2adb46ecef2516e83e05c47e46b55f53
X-WR-TIMEZONE:America/New_York
BEGIN:VTIMEZONE
TZID:America/New_York
BEGIN:STANDARD
TZNAME:EST
DTSTART:20231105T020000
TZOFFSETFROM:-0400
TZOFFSETTO:-0500
RDATE:20241103T020000
END:STANDARD
BEGIN:DAYLIGHT
TZNAME:EDT
DTSTART:20230312T020000
TZOFFSETFROM:-0500
TZOFFSETTO:-0400
RDATE:20240310T020000
RDATE:20250309T020000
END:DAYLIGHT
END:VTIMEZONE
BEGIN:VEVENT
UID:729c4d81-0390-4829-a71f-d7939f4f1e95
DTSTAMP:20260421T181737Z
DESCRIPTION:Food not only provides us with nutritional needs but also bring
 s us joy and pleasure. That can change as we age. Taste buds change\, dent
 al health can be more challenging\, arthritis can make food prep painful\,
  and medications and mood disorders can steal our appetite. Let’s learn so
 me quick\, easy\, and healthy ways to meet those needs.\n\nThis class is o
 ffered by the The Osher Lifelong Learning Institute (OLLI) at George Mason
  University. Presented by Melissa Long\, Director of Education & Support a
 t Insight Memory Care Center.
DTSTART;TZID=America/New_York:20240212T115000
DTEND;TZID=America/New_York:20240212T131500
LOCATION:https://olligmu.augusoft.net/index.cfm?method=ClassInfo.ClassInfor
 mation&int_class_id=7594&int_category_id=0&int_sub_category_id=0&int_catal
 og_id=0
SUMMARY:Nutrition For Older Adults
END:VEVENT
END:VCALENDAR
