BEGIN:VCALENDAR
VERSION:2.0
PRODID:-//www.insightmcc.org//NONSGML kigkonsult.se iCalcreator 2.30.10//
CALSCALE:GREGORIAN
METHOD:PUBLISH
UID:b370aa16-870d-4fc6-bf39-bd2c965b35b8
X-WR-CALDESC:<h6>New to Insight Memory Care Center? Want to learn more?</h6
 >\nEvents are offered on the 3rd Thursday of the month from 9:00 am to 10:
 30 am. Come and see our programs in action\, meet the staff\, and learn mo
 re about resources available.\n\n9:00-9:30 am  |  Meet and Greet\n9:30-10:
 30 am  |  Tour of Insight Programs in Action\n\n&nbsp\;\n<strong><a href='
 https://insightmemory.app.neoncrm.com/eventReg.jsp?event=1295&' class='but
 ton'>Sign Me Up!</a></strong>
X-WR-RELCALID:a9b9abcd3dca454b10eb40fac4ed6bfc
X-WR-TIMEZONE:America/New_York
BEGIN:VTIMEZONE
TZID:America/New_York
BEGIN:STANDARD
TZNAME:EST
DTSTART:20231105T020000
TZOFFSETFROM:-0400
TZOFFSETTO:-0500
RDATE:20241103T020000
END:STANDARD
BEGIN:DAYLIGHT
TZNAME:EDT
DTSTART:20230312T020000
TZOFFSETFROM:-0500
TZOFFSETTO:-0400
RDATE:20240310T020000
RDATE:20250309T020000
END:DAYLIGHT
END:VTIMEZONE
BEGIN:VEVENT
UID:3d8c3930-b9eb-40ad-91bf-a32612018ea3
DTSTAMP:20260421T181707Z
DESCRIPTION:<h6>New to Insight Memory Care Center? Want to learn more?</h6>
 \nEvents are offered on the 3rd Thursday of the month from 9:00 am to 10:3
 0 am. Come and see our programs in action\, meet the staff\, and learn mor
 e about resources available.\n\n9:00-9:30 am  |  Meet and Greet\n9:30-10:3
 0 am  |  Tour of Insight Programs in Action\n\n&nbsp\;\n<strong><a href='h
 ttps://insightmemory.app.neoncrm.com/eventReg.jsp?event=1295&' class='butt
 on'>Sign Me Up!</a></strong>
DTSTART;TZID=America/New_York:20240215T090000
DTEND;TZID=America/New_York:20240215T103000
LOCATION:Insight Memory Care Center - Fairfax \, 3953 Pender Drive\, Suite 
 100\, Fairfax\, VA 22030 US
SUMMARY:Insight in Action
END:VEVENT
END:VCALENDAR
