BEGIN:VCALENDAR
VERSION:2.0
PRODID:-//www.insightmcc.org//NONSGML kigkonsult.se iCalcreator 2.30.10//
CALSCALE:GREGORIAN
METHOD:PUBLISH
UID:e6e7ce36-468a-4223-9e6d-0c56c2b09a91
X-WR-CALDESC:Learn more about age-related changes in memory and learning\, 
 and practices to keep your brain sharp! Learn what to expect\, what’s “nor
 mal\,” and when it’s time to seek a doctor’s input.\n\nThis program is pre
 sented by the Insight Memory Care Team at the Lorton Senior Center. Please
  contact the event contact listed below to register.
X-WR-RELCALID:ffe6f86f34d9994c1fd5eff5bcf22f5b
X-WR-TIMEZONE:America/New_York
BEGIN:VTIMEZONE
TZID:America/New_York
BEGIN:STANDARD
TZNAME:EST
DTSTART:20231105T020000
TZOFFSETFROM:-0400
TZOFFSETTO:-0500
RDATE:20241103T020000
END:STANDARD
BEGIN:DAYLIGHT
TZNAME:EDT
DTSTART:20230312T020000
TZOFFSETFROM:-0500
TZOFFSETTO:-0400
RDATE:20240310T020000
RDATE:20250309T020000
END:DAYLIGHT
END:VTIMEZONE
BEGIN:VEVENT
UID:f6a8eee7-22ad-4c72-9364-838493e7fc1c
DTSTAMP:20260421T181716Z
DESCRIPTION:Learn more about age-related changes in memory and learning\, a
 nd practices to keep your brain sharp! Learn what to expect\, what’s “norm
 al\,” and when it’s time to seek a doctor’s input.\n\nThis program is pres
 ented by the Insight Memory Care Team at the Lorton Senior Center. Please 
 contact the event contact listed below to register.
DTSTART;TZID=America/New_York:20240216T130000
DTEND;TZID=America/New_York:20240216T140000
LOCATION:Lorton Senior Center\, 7722 Gunston Plz\, Lorton\, VA 22079 US
SUMMARY:Better Brain Health
END:VEVENT
END:VCALENDAR
