BEGIN:VCALENDAR
VERSION:2.0
PRODID:-//www.insightmcc.org//NONSGML kigkonsult.se iCalcreator 2.30.10//
CALSCALE:GREGORIAN
METHOD:PUBLISH
UID:dfaf4b4a-6a25-435e-9228-b564328597c0
X-WR-CALDESC:Insight will be closed for President's Day. Enjoy your holiday
 !
X-WR-RELCALID:3a80a5064414a8109ffc14ca4f8e6ba3
X-WR-TIMEZONE:America/New_York
BEGIN:VTIMEZONE
TZID:America/New_York
BEGIN:STANDARD
TZNAME:EST
DTSTART:20231105T020000
TZOFFSETFROM:-0400
TZOFFSETTO:-0500
RDATE:20241103T020000
END:STANDARD
BEGIN:DAYLIGHT
TZNAME:EDT
DTSTART:20230312T020000
TZOFFSETFROM:-0500
TZOFFSETTO:-0400
RDATE:20240310T020000
RDATE:20250309T020000
END:DAYLIGHT
END:VTIMEZONE
BEGIN:VEVENT
UID:ca534a15-4d15-406c-96eb-985daddab3a4
DTSTAMP:20260421T181600Z
DESCRIPTION:Insight will be closed for President's Day. Enjoy your holiday!
DTSTART;TZID=America/New_York:20240219T060000
DTEND;TZID=America/New_York:20240219T060001
LOCATION:
SUMMARY:Insight Closed
END:VEVENT
END:VCALENDAR
