BEGIN:VCALENDAR
VERSION:2.0
PRODID:-//www.insightmcc.org//NONSGML kigkonsult.se iCalcreator 2.30.10//
CALSCALE:GREGORIAN
METHOD:PUBLISH
UID:50fbc50a-07d7-4848-b9bd-b5b5d1a791b9
X-WR-CALDESC:Insight Memory Care Center will offer free\, confidential memo
 ry screenings and educational materials to people with concerns about thei
 r memory or who want to check their memory now for future comparison. \n\n
 Register for a 30 minute time slot between 10:00am-2:00pm by calling 703-9
 70-3601.
X-WR-RELCALID:0ac769032d99613a6fb7ffe7a7f46cfc
X-WR-TIMEZONE:America/New_York
BEGIN:VTIMEZONE
TZID:America/New_York
BEGIN:STANDARD
TZNAME:EST
DTSTART:20231105T020000
TZOFFSETFROM:-0400
TZOFFSETTO:-0500
RDATE:20241103T020000
END:STANDARD
BEGIN:DAYLIGHT
TZNAME:EDT
DTSTART:20230312T020000
TZOFFSETFROM:-0500
TZOFFSETTO:-0400
RDATE:20240310T020000
RDATE:20250309T020000
END:DAYLIGHT
END:VTIMEZONE
BEGIN:VEVENT
UID:261497c6-cce7-48dc-89fb-f7f027809a8a
DTSTAMP:20260421T181708Z
DESCRIPTION:Insight Memory Care Center will offer free\, confidential memor
 y screenings and educational materials to people with concerns about their
  memory or who want to check their memory now for future comparison. \n\nR
 egister for a 30 minute time slot between 10:00am-2:00pm by calling 703-97
 0-3601.
DTSTART;TZID=America/New_York:20240226T100000
DTEND;TZID=America/New_York:20240226T140000
LOCATION:Wellness Center for Older Adults (WCOA)\, 4027B Olley Lane\, Fairf
 ax \, VA 22032 US
SUMMARY:Memory Screenings at WCOA
END:VEVENT
END:VCALENDAR
