BEGIN:VCALENDAR
VERSION:2.0
PRODID:-//www.insightmcc.org//NONSGML kigkonsult.se iCalcreator 2.30.10//
CALSCALE:GREGORIAN
METHOD:PUBLISH
UID:d8105f79-a730-48d8-ab1b-d522e4aa4796
X-WR-CALDESC:A discussion on changes that occur with age\, warning signs of
  a memory problem\, and what to do if someone you love is experiencing sym
 ptoms. Presented by Insight Memory Care Center at the Arlington Mill Senio
 r Center.\n\n<b> Rescheduled from 2/5. </b>\n\nRegister at the link below.
X-WR-RELCALID:b5d2a20183e61370662c18375e9273bc
X-WR-TIMEZONE:America/New_York
BEGIN:VTIMEZONE
TZID:America/New_York
BEGIN:STANDARD
TZNAME:EST
DTSTART:20231105T020000
TZOFFSETFROM:-0400
TZOFFSETTO:-0500
RDATE:20241103T020000
END:STANDARD
BEGIN:DAYLIGHT
TZNAME:EDT
DTSTART:20230312T020000
TZOFFSETFROM:-0500
TZOFFSETTO:-0400
RDATE:20240310T020000
RDATE:20250309T020000
END:DAYLIGHT
END:VTIMEZONE
BEGIN:VEVENT
UID:4eee4b71-dd0c-41a4-a49f-1be9a84debf0
DTSTAMP:20260421T181719Z
DESCRIPTION:A discussion on changes that occur with age\, warning signs of 
 a memory problem\, and what to do if someone you love is experiencing symp
 toms. Presented by Insight Memory Care Center at the Arlington Mill Senior
  Center.\n\n<b> Rescheduled from 2/5. </b>\n\nRegister at the link below.
DTSTART;TZID=America/New_York:20240226T103000
DTEND;TZID=America/New_York:20240226T113000
LOCATION:Arlington Mill Senior Center\, 909 South Dinwiddie Street\, Arling
 ton\, VA 22204 US
SUMMARY:Normal Aging vs. Dementia
END:VEVENT
END:VCALENDAR
