BEGIN:VCALENDAR
VERSION:2.0
PRODID:-//www.insightmcc.org//NONSGML kigkonsult.se iCalcreator 2.30.10//
CALSCALE:GREGORIAN
METHOD:PUBLISH
UID:759e72a1-50c3-43bc-8981-3d0d72601b4f
X-WR-CALDESC:Join us virtually for this workshop series as we explore many 
 common caregiving topics together! Each weekly session will include an edu
 cational portion\, group discussion\, and interactive activities as we dig
 est and apply each chapter of Insight’s Caregiving at a Glance guide. Gues
 t facilitators will also provide expert advice for each session topic. A o
 ne-hour consultation is included at the end of the series to apply course 
 learning to your specific family situation.\n\nThis cohort session will be
  limited to 20 participants in order to ensure that everyone can actively 
 participate. We know that as much as you can learn from the experts\, you 
 can also learn from each other along our shared caregiving journey!\n\nCos
 t is $100 for the series. Attendees will receive a Caregiving at a Glance 
 guidebook and class materials. <b>Registration deadline is January 26 to e
 nsure you receive course materials before the first workshop!</b>\n\n&nbsp
 \;\n<strong><a href='https://insightmemory.app.neoncrm.com/eventReg.jsp?ev
 ent=1296&' class='button'>Sign Me Up!</a></strong>
X-WR-RELCALID:644e6856fd1c0da6a48e2b04f666a714
X-WR-TIMEZONE:America/New_York
BEGIN:VTIMEZONE
TZID:America/New_York
BEGIN:STANDARD
TZNAME:EST
DTSTART:20231105T020000
TZOFFSETFROM:-0400
TZOFFSETTO:-0500
RDATE:20241103T020000
END:STANDARD
BEGIN:DAYLIGHT
TZNAME:EDT
DTSTART:20230312T020000
TZOFFSETFROM:-0500
TZOFFSETTO:-0400
RDATE:20240310T020000
RDATE:20250309T020000
END:DAYLIGHT
END:VTIMEZONE
BEGIN:VEVENT
UID:a959b555-0e7d-4e14-8628-428661c199cf
DTSTAMP:20260421T182054Z
DESCRIPTION:Join us virtually for this workshop series as we explore many c
 ommon caregiving topics together! Each weekly session will include an educ
 ational portion\, group discussion\, and interactive activities as we dige
 st and apply each chapter of Insight’s Caregiving at a Glance guide. Guest
  facilitators will also provide expert advice for each session topic. A on
 e-hour consultation is included at the end of the series to apply course l
 earning to your specific family situation.\n\nThis cohort session will be 
 limited to 20 participants in order to ensure that everyone can actively p
 articipate. We know that as much as you can learn from the experts\, you c
 an also learn from each other along our shared caregiving journey!\n\nCost
  is $100 for the series. Attendees will receive a Caregiving at a Glance g
 uidebook and class materials. <b>Registration deadline is January 26 to en
 sure you receive course materials before the first workshop!</b>\n\n&nbsp\
 ;\n<strong><a href='https://insightmemory.app.neoncrm.com/eventReg.jsp?eve
 nt=1296&' class='button'>Sign Me Up!</a></strong>
DTSTART;TZID=America/New_York:20240229T190000
DTEND;TZID=America/New_York:20240229T203000
LOCATION:Virtual! Zoom link provided upon registration.
SUMMARY:Caregiving at a Glance Workshop Series - Virtual
END:VEVENT
END:VCALENDAR
