BEGIN:VCALENDAR
VERSION:2.0
PRODID:-//www.insightmcc.org//NONSGML kigkonsult.se iCalcreator 2.30.10//
CALSCALE:GREGORIAN
METHOD:PUBLISH
UID:cff46ad0-b07c-4c55-a34b-ed11e040ae37
X-WR-CALDESC:Learn more about age-related changes in memory and learning\, 
 and practices to keep your brain sharp! Learn what to expect\, what’s “nor
 mal\,” and when it’s time to seek a doctor’s input.\n\nThis program is pre
 sented by the Insight Memory Care Team at the Langston Brown Community Cen
 ter.
X-WR-RELCALID:39274274d86bd2c8f22871a6283c4044
X-WR-TIMEZONE:America/New_York
BEGIN:VTIMEZONE
TZID:America/New_York
BEGIN:STANDARD
TZNAME:EST
DTSTART:20231105T020000
TZOFFSETFROM:-0400
TZOFFSETTO:-0500
RDATE:20241103T020000
END:STANDARD
BEGIN:DAYLIGHT
TZNAME:EDT
DTSTART:20230312T020000
TZOFFSETFROM:-0500
TZOFFSETTO:-0400
RDATE:20240310T020000
RDATE:20250309T020000
END:DAYLIGHT
END:VTIMEZONE
BEGIN:VEVENT
UID:4298b6a8-8770-443d-9cd3-6cd0def039a2
DTSTAMP:20260421T170413Z
DESCRIPTION:Learn more about age-related changes in memory and learning\, a
 nd practices to keep your brain sharp! Learn what to expect\, what’s “norm
 al\,” and when it’s time to seek a doctor’s input.\n\nThis program is pres
 ented by the Insight Memory Care Team at the Langston Brown Community Cent
 er.
DTSTART;TZID=America/New_York:20240306T110000
DTEND;TZID=America/New_York:20240306T120000
LOCATION:Langston Brown Community Center\, 2121 N Culpeper St\, Arlington\,
  VA 22207 US
SUMMARY:Brain Health as You Age
END:VEVENT
END:VCALENDAR
