BEGIN:VCALENDAR
VERSION:2.0
PRODID:-//www.insightmcc.org//NONSGML kigkonsult.se iCalcreator 2.30.10//
CALSCALE:GREGORIAN
METHOD:PUBLISH
UID:0e231b98-2e95-4f6f-8cac-1d9afc5756d3
X-WR-CALDESC:This group will offer a safe\, welcoming and private setting f
 or caregivers to share their caregiving experiences\, connect with others 
 going through the same journey and receive insight from an expert. There w
 ill also be group discussions and educational presentations about relevant
  caregiving topics.\n\nFor the March group the topic will be Brain Health 
 as You Age. Learn more about age-related changes in memory and learning\, 
 and practices to keep your brain sharp! Learn what to expect\, what’s “nor
 mal\,” and when it’s time to seek a doctor’s input.\n\nPlease contact the 
 event contact listed below to register.\n
X-WR-RELCALID:0af0ad2c92dfae05aea3426c0d004254
X-WR-TIMEZONE:America/New_York
BEGIN:VTIMEZONE
TZID:America/New_York
BEGIN:STANDARD
TZNAME:EST
DTSTART:20231105T020000
TZOFFSETFROM:-0400
TZOFFSETTO:-0500
RDATE:20241103T020000
END:STANDARD
BEGIN:DAYLIGHT
TZNAME:EDT
DTSTART:20230312T020000
TZOFFSETFROM:-0500
TZOFFSETTO:-0400
RDATE:20240310T020000
RDATE:20250309T020000
END:DAYLIGHT
END:VTIMEZONE
BEGIN:VEVENT
UID:58bb6bb2-a7b9-4f1b-bcb6-9ac4c5982cd8
DTSTAMP:20260421T170834Z
DESCRIPTION:This group will offer a safe\, welcoming and private setting fo
 r caregivers to share their caregiving experiences\, connect with others g
 oing through the same journey and receive insight from an expert. There wi
 ll also be group discussions and educational presentations about relevant 
 caregiving topics.\n\nFor the March group the topic will be Brain Health a
 s You Age. Learn more about age-related changes in memory and learning\, a
 nd practices to keep your brain sharp! Learn what to expect\, what’s “norm
 al\,” and when it’s time to seek a doctor’s input.\n\nPlease contact the e
 vent contact listed below to register.\n
DTSTART;TZID=America/New_York:20240307T150000
DTEND;TZID=America/New_York:20240307T160000
LOCATION:Great Falls Assisted Living\, 1121 Reston Ave\, Herndon\, VA 20170
  US
SUMMARY:Caregiver Support Group - Brain Health As You Age
END:VEVENT
END:VCALENDAR
