BEGIN:VCALENDAR
VERSION:2.0
PRODID:-//www.insightmcc.org//NONSGML kigkonsult.se iCalcreator 2.30.10//
CALSCALE:GREGORIAN
METHOD:PUBLISH
UID:712899ab-eabf-42c9-ba86-ae5ea3fc7600
X-WR-CALDESC:Learn more about age-related changes in memory and learning\, 
 and practices to keep your brain sharp! Learn what to expect\, what’s “nor
 mal\,” and when it’s time to seek a doctor’s input.\n\nThis program is pre
 sented by the Insight Memory Care Team at the Wellness Center for Older Ad
 ults. Please contact the event contact listed below to register.
X-WR-RELCALID:1d090fedcc73614ec26243d9083d952f
X-WR-TIMEZONE:America/New_York
BEGIN:VTIMEZONE
TZID:America/New_York
BEGIN:STANDARD
TZNAME:EST
DTSTART:20231105T020000
TZOFFSETFROM:-0400
TZOFFSETTO:-0500
RDATE:20241103T020000
END:STANDARD
BEGIN:DAYLIGHT
TZNAME:EDT
DTSTART:20240310T020000
TZOFFSETFROM:-0500
TZOFFSETTO:-0400
RDATE:20250309T020000
END:DAYLIGHT
END:VTIMEZONE
BEGIN:VEVENT
UID:05f04547-41e9-457c-aef9-47b061563710
DTSTAMP:20260421T165935Z
DESCRIPTION:Learn more about age-related changes in memory and learning\, a
 nd practices to keep your brain sharp! Learn what to expect\, what’s “norm
 al\,” and when it’s time to seek a doctor’s input.\n\nThis program is pres
 ented by the Insight Memory Care Team at the Wellness Center for Older Adu
 lts. Please contact the event contact listed below to register.
DTSTART;TZID=America/New_York:20240314T103000
DTEND;TZID=America/New_York:20240314T113000
LOCATION:Wellness Center for Older Adults\, 4027B Olley Lane\, Fairfax\, VA
  22032 US
SUMMARY:Better Brain Health
END:VEVENT
END:VCALENDAR
