BEGIN:VCALENDAR
VERSION:2.0
PRODID:-//www.insightmcc.org//NONSGML kigkonsult.se iCalcreator 2.30.10//
CALSCALE:GREGORIAN
METHOD:PUBLISH
UID:5bc9a7bc-6b2d-4a6f-be06-4f8f79d28d42
X-WR-CALDESC:Insight Memory Care Center will offer free\, confidential memo
 ry screenings and educational materials to people with concerns about thei
 r memory or who want to check their memory now for future comparison.\n\nR
 egister for a 30 minute time slot between 9:00 am - 12:00 pm by calling (7
 03) 550-7195
X-WR-RELCALID:1162d9e0a21566c1e6cfe0f037fe6cb6
X-WR-TIMEZONE:America/New_York
BEGIN:VTIMEZONE
TZID:America/New_York
BEGIN:STANDARD
TZNAME:EST
DTSTART:20231105T020000
TZOFFSETFROM:-0400
TZOFFSETTO:-0500
RDATE:20241103T020000
END:STANDARD
BEGIN:DAYLIGHT
TZNAME:EDT
DTSTART:20240310T020000
TZOFFSETFROM:-0500
TZOFFSETTO:-0400
RDATE:20250309T020000
END:DAYLIGHT
END:VTIMEZONE
BEGIN:VEVENT
UID:11d8fe32-f531-4e4a-824a-5b1fd4c65998
DTSTAMP:20260421T165848Z
DESCRIPTION:Insight Memory Care Center will offer free\, confidential memor
 y screenings and educational materials to people with concerns about their
  memory or who want to check their memory now for future comparison.\n\nRe
 gister for a 30 minute time slot between 9:00 am - 12:00 pm by calling (70
 3) 550-7195
DTSTART;TZID=America/New_York:20240315T090000
DTEND;TZID=America/New_York:20240315T120000
LOCATION:Lorton Senior Center\, 7722 Gunston Plz\, Lorton\, VA 22079 US
SUMMARY:Memory Screenings at Lorton Senior Center
END:VEVENT
END:VCALENDAR
