BEGIN:VCALENDAR
VERSION:2.0
PRODID:-//www.insightmcc.org//NONSGML kigkonsult.se iCalcreator 2.30.10//
CALSCALE:GREGORIAN
METHOD:PUBLISH
UID:04ae1515-428b-4f54-a346-82e35aaca958
X-WR-CALDESC:Join IMCC and AARP Virginia for a screening of the documentary
  'Saving Claire' along with a discussion following the movie with the Nort
 hern Virginia Falls Prevention Alliance. The Saving Claire Falls Preventio
 n Project starts with a groundbreaking documentary. The film explores the 
 complex nature of aging\, resistance to change\, and all the relatable pat
 terns that increase fall risk. Claire’s journey is a cautionary tale. The 
 film explores Claire’s attitudes and actions\, the spiral after her fall\,
  and the dramatic events that follow. Audiences connect with and relate to
  Claire. After people see Saving Claire\, they report that they are ready 
 to change their behavior. \n\nThis class will be held both virtually and i
 n-person in Fairfax. Please select your attendance type when you register.
 \n\nThis event is offered in partnership with AARP Virginia.\n\n&nbsp\;\n<
 strong><a href='https://insightmemory.app.neoncrm.com/eventReg.jsp?event=1
 239&' class='button'>Sign Me Up - In Person</a></strong>\n\n<strong><a hre
 f='https://insightmemory.app.neoncrm.com/eventReg.jsp?event=1290&' class='
 button'>Sign Me Up - Virtual</a></strong>
X-WR-RELCALID:95d13839c3d397a7c14ecb4223e43d78
X-WR-TIMEZONE:America/New_York
BEGIN:VTIMEZONE
TZID:America/New_York
BEGIN:STANDARD
TZNAME:EST
DTSTART:20231105T020000
TZOFFSETFROM:-0400
TZOFFSETTO:-0500
RDATE:20241103T020000
END:STANDARD
BEGIN:DAYLIGHT
TZNAME:EDT
DTSTART:20240310T020000
TZOFFSETFROM:-0500
TZOFFSETTO:-0400
RDATE:20250309T020000
END:DAYLIGHT
END:VTIMEZONE
BEGIN:VEVENT
UID:7f903b1f-0119-49f4-9c6f-4fef390034ef
DTSTAMP:20260421T165822Z
DESCRIPTION:Join IMCC and AARP Virginia for a screening of the documentary 
 'Saving Claire' along with a discussion following the movie with the North
 ern Virginia Falls Prevention Alliance. The Saving Claire Falls Prevention
  Project starts with a groundbreaking documentary. The film explores the c
 omplex nature of aging\, resistance to change\, and all the relatable patt
 erns that increase fall risk. Claire’s journey is a cautionary tale. The f
 ilm explores Claire’s attitudes and actions\, the spiral after her fall\, 
 and the dramatic events that follow. Audiences connect with and relate to 
 Claire. After people see Saving Claire\, they report that they are ready t
 o change their behavior. \n\nThis class will be held both virtually and in
 -person in Fairfax. Please select your attendance type when you register.
 \n\nThis event is offered in partnership with AARP Virginia.\n\n&nbsp\;\n<
 strong><a href='https://insightmemory.app.neoncrm.com/eventReg.jsp?event=1
 239&' class='button'>Sign Me Up - In Person</a></strong>\n\n<strong><a hre
 f='https://insightmemory.app.neoncrm.com/eventReg.jsp?event=1290&' class='
 button'>Sign Me Up - Virtual</a></strong>
DTSTART;TZID=America/New_York:20240319T190000
DTEND;TZID=America/New_York:20240319T200000
LOCATION:Hybrid! Virtual and in-person at Insight Memory Care Center - Fair
 fax
SUMMARY:Saving Claire Film Screening and Q&A
END:VEVENT
END:VCALENDAR
