BEGIN:VCALENDAR
VERSION:2.0
PRODID:-//www.insightmcc.org//NONSGML kigkonsult.se iCalcreator 2.30.10//
CALSCALE:GREGORIAN
METHOD:PUBLISH
UID:06aba450-77aa-4aa3-8dd2-a179213ede8b
X-WR-CALDESC:<h6>Join us for a peek at this year's sponsorship opportunitie
 s!</h6>\nNetwork with industry professionals over drinks and appetizers\, 
 and celebrate with us as we get ready for this year’s gala. Exclusive spon
 sorship benefits available for those who attend and commit to a 2024 Paint
 ings & Pairings sponsorship! \n\n<em>Appetizers generously provided by The
  Providence Fairfax.</em>\n\nPlease kindly RSVP by Thursday\, March 14.\n
 \n&nbsp\;\n<strong><a href='https://insightmemory.app.neoncrm.com/np/clien
 ts/insightmemory/eventRegistration.jsp?event=1373&' class='button'>Sign Me
  Up!</a></strong>\n
X-WR-RELCALID:4ac303da1a0da74c9984913d45608e73
X-WR-TIMEZONE:America/New_York
BEGIN:VTIMEZONE
TZID:America/New_York
BEGIN:STANDARD
TZNAME:EST
DTSTART:20231105T020000
TZOFFSETFROM:-0400
TZOFFSETTO:-0500
RDATE:20241103T020000
END:STANDARD
BEGIN:DAYLIGHT
TZNAME:EDT
DTSTART:20240310T020000
TZOFFSETFROM:-0500
TZOFFSETTO:-0400
RDATE:20250309T020000
END:DAYLIGHT
END:VTIMEZONE
BEGIN:VEVENT
UID:edac0fed-1ad6-4b13-84b5-0f64a2b940ac
DTSTAMP:20260421T170144Z
DESCRIPTION:<h6>Join us for a peek at this year's sponsorship opportunities
 !</h6>\nNetwork with industry professionals over drinks and appetizers\, a
 nd celebrate with us as we get ready for this year’s gala. Exclusive spons
 orship benefits available for those who attend and commit to a 2024 Painti
 ngs & Pairings sponsorship! \n\n<em>Appetizers generously provided by The 
 Providence Fairfax.</em>\n\nPlease kindly RSVP by Thursday\, March 14.\n\n
 &nbsp\;\n<strong><a href='https://insightmemory.app.neoncrm.com/np/clients
 /insightmemory/eventRegistration.jsp?event=1373&' class='button'>Sign Me U
 p!</a></strong>\n
DTSTART;TZID=America/New_York:20240321T160000
DTEND;TZID=America/New_York:20240321T180000
LOCATION:The Providence Fairfax\, 9490 Sprague Ave\, Fairfax\, VA 22031 US
SUMMARY:Paintings & Pairings Sponsor Kick-Off Event
END:VEVENT
END:VCALENDAR
