BEGIN:VCALENDAR
VERSION:2.0
PRODID:-//www.insightmcc.org//NONSGML kigkonsult.se iCalcreator 2.30.10//
CALSCALE:GREGORIAN
METHOD:PUBLISH
UID:4a8fe1d8-2de0-47cd-9b53-a6428c7e7de0
X-WR-CALDESC:Food not only provides us with nutritional needs\, but also br
 ings us joy and pleasure. That can change as we age. From taste buds chang
 ing\, dental health can be more challenging\, arthritis can make food prep
  painful\, and medications and mood disorders can steal our appetite. Let'
 s learn some quick\, easy and healthy ways to meet those needs.\n\nThis pr
 ogram is presented by the Insight Memory Care Team at Elancé at West End. 
 Please contact the event contact listed below to register.
X-WR-RELCALID:aa13f4b24e0f4ef5bb2ded094635c787
X-WR-TIMEZONE:America/New_York
BEGIN:VTIMEZONE
TZID:America/New_York
BEGIN:STANDARD
TZNAME:EST
DTSTART:20231105T020000
TZOFFSETFROM:-0400
TZOFFSETTO:-0500
RDATE:20241103T020000
END:STANDARD
BEGIN:DAYLIGHT
TZNAME:EDT
DTSTART:20240310T020000
TZOFFSETFROM:-0500
TZOFFSETTO:-0400
RDATE:20250309T020000
END:DAYLIGHT
END:VTIMEZONE
BEGIN:VEVENT
UID:6dd27b8d-aa8e-420f-ab3f-f91e30b141fa
DTSTAMP:20260421T153133Z
DESCRIPTION:Food not only provides us with nutritional needs\, but also bri
 ngs us joy and pleasure. That can change as we age. From taste buds changi
 ng\, dental health can be more challenging\, arthritis can make food prep 
 painful\, and medications and mood disorders can steal our appetite. Let's
  learn some quick\, easy and healthy ways to meet those needs.\n\nThis pro
 gram is presented by the Insight Memory Care Team at Elancé at West End. P
 lease contact the event contact listed below to register.
DTSTART;TZID=America/New_York:20240409T173000
DTEND;TZID=America/New_York:20240409T183000
LOCATION:Elancé at West End\, 5550 Cardinal Pl\, Alexandria\, VA 22304 US
SUMMARY:Nutrition For Older Adults
END:VEVENT
END:VCALENDAR
