BEGIN:VCALENDAR
VERSION:2.0
PRODID:-//www.insightmcc.org//NONSGML kigkonsult.se iCalcreator 2.30.10//
CALSCALE:GREGORIAN
METHOD:PUBLISH
UID:1f0339f3-1ccc-4d5d-9583-b43318e04dd2
X-WR-CALDESC:Insight Memory Care Center is partnering with Encore Creativit
 y for Older Adults\, the nation’s largest choral program for singers 55+\,
  to offer a chorus for those diagnosed with early or beginning moderate Al
 zheimer’s and other memory impairments.\n\nSingers in the chorus\, along w
 ith their care partner\, will learn familiar and new songs in three-part h
 armony. We will rehearse familiar music for the season\, along with old fa
 vorites such as Somewhere Over the Rainbow. Everyone will learn vocal tech
 nique skills to improve their singing voice and\, of course\, enjoy the al
 l-important social aspect of choral singing!\n\nWe are hopeful that all ca
 re partners will also sing! If you don’t feel as musically inclined\, care
  partners can also just listen in to rehearsals.\nSpring Session Details: 
 Every Wednesday effective 1/10/2024 until 4/17/2024 from 10:00 AM to 11:30
  AM
X-WR-RELCALID:1070d25f930ce66bdd234f2e949f1a30
X-WR-TIMEZONE:America/New_York
BEGIN:VTIMEZONE
TZID:America/New_York
BEGIN:STANDARD
TZNAME:EST
DTSTART:20231105T020000
TZOFFSETFROM:-0400
TZOFFSETTO:-0500
RDATE:20241103T020000
END:STANDARD
BEGIN:DAYLIGHT
TZNAME:EDT
DTSTART:20240310T020000
TZOFFSETFROM:-0500
TZOFFSETTO:-0400
RDATE:20250309T020000
END:DAYLIGHT
END:VTIMEZONE
BEGIN:VEVENT
UID:1f5c6ffe-9118-4ecb-b84b-219c012c3d71
DTSTAMP:20260421T153355Z
DESCRIPTION:Insight Memory Care Center is partnering with Encore Creativity
  for Older Adults\, the nation’s largest choral program for singers 55+\, 
 to offer a chorus for those diagnosed with early or beginning moderate Alz
 heimer’s and other memory impairments.\n\nSingers in the chorus\, along wi
 th their care partner\, will learn familiar and new songs in three-part ha
 rmony. We will rehearse familiar music for the season\, along with old fav
 orites such as Somewhere Over the Rainbow. Everyone will learn vocal techn
 ique skills to improve their singing voice and\, of course\, enjoy the all
 -important social aspect of choral singing!\n\nWe are hopeful that all car
 e partners will also sing! If you don’t feel as musically inclined\, care 
 partners can also just listen in to rehearsals.\nSpring Session Details: E
 very Wednesday effective 1/10/2024 until 4/17/2024 from 10:00 AM to 11:30 
 AM
DTSTART;TZID=America/New_York:20240410T100000
DTEND;TZID=America/New_York:20240410T113000
LOCATION:Insight Fairfax & Virtual Option
SUMMARY:Sentimental Journey Singers - Fairfax
END:VEVENT
END:VCALENDAR
