BEGIN:VCALENDAR
VERSION:2.0
PRODID:-//www.insightmcc.org//NONSGML kigkonsult.se iCalcreator 2.30.10//
CALSCALE:GREGORIAN
METHOD:PUBLISH
UID:04b5e890-a782-431b-af29-e798d3d516ab
X-WR-CALDESC:It may be hard to imagine\, but for some families\, dementia h
 as a silver lining. The diagnosis may bring families closer as members wor
 k together to solve a common challenge. It forces intimacy when bodily fun
 ctions become less personal. And it can cause relatives to depend on each 
 other for emotional support. More often though\, dementia sparks conflict\
 , guilt\, grief\, sacrifice\, uncertainty—negative emotions that can affec
 t the quality of life for the person with dementia and their loved ones. L
 et’s see how we navigate these new dynamics!\n\n\n<b>This class will be he
 ld both virtually and in-person in Fairfax.</b> Please select your attenda
 nce type when you register.\n\nIn-person attendance in Fairfax is limited 
 to 20 participants. The session will be held in the Mazawey Education and 
 Support Center\, 3955 Pender Drive\, Suite 100\, Fairfax\, VA 22030.\nVirt
 ual attendees will receive Zoom information prior to the class.\n\nThis pr
 ogram is a part of our monthly Care Partner Training series. All sessions 
 are FREE\, and held the second Wednesday of each month from 1:00 to 2:30 p
 m.\n\n<b>Presenter</b>\n<i>Rebecca Harrison\, LCSW\, CDP</i>\nRebecca Harr
 ison\, Licensed Clinical Social Worker\, Certified Dementia Practitioner\,
  is a psychotherapist with over 30 years of multicultural experience provi
 ding therapy services to individuals\, families and couples. Rebecca has e
 xperience working in a range of settings\, including nursing home\, mental
  health clinics\, hospitals and hospices.\nRebecca provides psychotherapy 
 for depression\, anxiety\, life transitions\, relational issues\, and chro
 nic illness. Rebecca has extensive experience in assisting both individual
 s and their families facing the challenges of dementia. Currently Rebecca 
 has a private practice in McLean\, VA.\n\n&nbsp\;\n<strong><a href='https:
 //insightmemory.app.neoncrm.com/eventReg.jsp?event=1358&' class='button'>S
 ign Me Up - In Person</a></strong>\n\n<strong><a href='https://insightmemo
 ry.app.neoncrm.com/eventReg.jsp?event=1363&' class='button'>Sign Me Up - V
 irtual</a></strong>\n
X-WR-RELCALID:6802f954d1258d1a4b50aa69393d2df1
X-WR-TIMEZONE:America/New_York
BEGIN:VTIMEZONE
TZID:America/New_York
BEGIN:STANDARD
TZNAME:EST
DTSTART:20231105T020000
TZOFFSETFROM:-0400
TZOFFSETTO:-0500
RDATE:20241103T020000
END:STANDARD
BEGIN:DAYLIGHT
TZNAME:EDT
DTSTART:20240310T020000
TZOFFSETFROM:-0500
TZOFFSETTO:-0400
RDATE:20250309T020000
END:DAYLIGHT
END:VTIMEZONE
BEGIN:VEVENT
UID:586634c6-4fec-41e7-83aa-3a203dce50f9
DTSTAMP:20260421T153945Z
DESCRIPTION:It may be hard to imagine\, but for some families\, dementia ha
 s a silver lining. The diagnosis may bring families closer as members work
  together to solve a common challenge. It forces intimacy when bodily func
 tions become less personal. And it can cause relatives to depend on each o
 ther for emotional support. More often though\, dementia sparks conflict\,
  guilt\, grief\, sacrifice\, uncertainty—negative emotions that can affect
  the quality of life for the person with dementia and their loved ones. Le
 t’s see how we navigate these new dynamics!\n\n\n<b>This class will be hel
 d both virtually and in-person in Fairfax.</b> Please select your attendan
 ce type when you register.\n\nIn-person attendance in Fairfax is limited t
 o 20 participants. The session will be held in the Mazawey Education and S
 upport Center\, 3955 Pender Drive\, Suite 100\, Fairfax\, VA 22030.\nVirtu
 al attendees will receive Zoom information prior to the class.\n\nThis pro
 gram is a part of our monthly Care Partner Training series. All sessions a
 re FREE\, and held the second Wednesday of each month from 1:00 to 2:30 pm
 .\n\n<b>Presenter</b>\n<i>Rebecca Harrison\, LCSW\, CDP</i>\nRebecca Harri
 son\, Licensed Clinical Social Worker\, Certified Dementia Practitioner\, 
 is a psychotherapist with over 30 years of multicultural experience provid
 ing therapy services to individuals\, families and couples. Rebecca has ex
 perience working in a range of settings\, including nursing home\, mental 
 health clinics\, hospitals and hospices.\nRebecca provides psychotherapy f
 or depression\, anxiety\, life transitions\, relational issues\, and chron
 ic illness. Rebecca has extensive experience in assisting both individuals
  and their families facing the challenges of dementia. Currently Rebecca h
 as a private practice in McLean\, VA.\n\n&nbsp\;\n<strong><a href='https:/
 /insightmemory.app.neoncrm.com/eventReg.jsp?event=1358&' class='button'>Si
 gn Me Up - In Person</a></strong>\n\n<strong><a href='https://insightmemor
 y.app.neoncrm.com/eventReg.jsp?event=1363&' class='button'>Sign Me Up - Vi
 rtual</a></strong>\n
DTSTART;TZID=America/New_York:20240410T130000
DTEND;TZID=America/New_York:20240410T143000
LOCATION:Hybrid! Virtual and in-person at Insight Memory Care Center - Fair
 fax
SUMMARY:Family Dynamics and Dementia Care
END:VEVENT
END:VCALENDAR
