BEGIN:VCALENDAR
VERSION:2.0
PRODID:-//www.insightmcc.org//NONSGML kigkonsult.se iCalcreator 2.30.10//
CALSCALE:GREGORIAN
METHOD:PUBLISH
UID:65ac902f-6ca1-45b9-8f4f-c0b94d47bc1f
X-WR-CALDESC:Join Kensington Reston for an Educational Presentation with Ne
 urologist Jennifer Pauldurai\, MD of Inova and Melissa Long of Insight Mem
 ory Care Center!\n\nMCI is a slight yet noticeable decline in memory that 
 warrants attention. Unfortunately\, once diagnosed\, fear\, confusion\, ov
 erwhelm\, and conflicting opinions can make it difficult to figure out how
  and where to get help. This workshop is lead by leading authorities who w
 ill share tips\, tools and insights about steps to take after an MCI diagn
 osis.\n\n\n\nThis event is held at the Kensington Reston\, please register
  at the link below.
X-WR-RELCALID:9ad379f338849e20502972ab1966bb89
X-WR-TIMEZONE:America/New_York
BEGIN:VTIMEZONE
TZID:America/New_York
BEGIN:STANDARD
TZNAME:EST
DTSTART:20231105T020000
TZOFFSETFROM:-0400
TZOFFSETTO:-0500
RDATE:20241103T020000
END:STANDARD
BEGIN:DAYLIGHT
TZNAME:EDT
DTSTART:20240310T020000
TZOFFSETFROM:-0500
TZOFFSETTO:-0400
RDATE:20250309T020000
END:DAYLIGHT
END:VTIMEZONE
BEGIN:VEVENT
UID:81bafe26-c782-4ecd-af97-53876e25f9b4
DTSTAMP:20260421T154117Z
DESCRIPTION:Join Kensington Reston for an Educational Presentation with Neu
 rologist Jennifer Pauldurai\, MD of Inova and Melissa Long of Insight Memo
 ry Care Center!\n\nMCI is a slight yet noticeable decline in memory that w
 arrants attention. Unfortunately\, once diagnosed\, fear\, confusion\, ove
 rwhelm\, and conflicting opinions can make it difficult to figure out how 
 and where to get help. This workshop is lead by leading authorities who wi
 ll share tips\, tools and insights about steps to take after an MCI diagno
 sis.\n\n\n\nThis event is held at the Kensington Reston\, please register 
 at the link below.
DTSTART;TZID=America/New_York:20240410T180000
DTEND;TZID=America/New_York:20240410T190000
LOCATION:The Kensington Reston\, 11501 Sunrise Valley Dr\, Reston\, VA 2019
 1 US
SUMMARY:My Loved One Has Been Diagnosed with Mild Cognitive Impairment... N
 ow What?
END:VEVENT
END:VCALENDAR
