BEGIN:VCALENDAR
VERSION:2.0
PRODID:-//www.insightmcc.org//NONSGML kigkonsult.se iCalcreator 2.30.10//
CALSCALE:GREGORIAN
METHOD:PUBLISH
UID:2d882cab-ae54-47a3-928d-583fe91fe8e9
X-WR-CALDESC:A discussion on changes that occur with age\, warning signs of
  a memory problem\, and what to do if someone you love is experiencing sym
 ptoms.\n\nThis program is presented by the Insight Memory Care Team at the
  Ashburn Library. <b>The program will be held in ROOM C.</b> Please contac
 t the event contact listed below to register.
X-WR-RELCALID:1aad341a09acb9f8289b486fa23dd96d
X-WR-TIMEZONE:America/New_York
BEGIN:VTIMEZONE
TZID:America/New_York
BEGIN:STANDARD
TZNAME:EST
DTSTART:20231105T020000
TZOFFSETFROM:-0400
TZOFFSETTO:-0500
RDATE:20241103T020000
END:STANDARD
BEGIN:DAYLIGHT
TZNAME:EDT
DTSTART:20240310T020000
TZOFFSETFROM:-0500
TZOFFSETTO:-0400
RDATE:20250309T020000
END:DAYLIGHT
END:VTIMEZONE
BEGIN:VEVENT
UID:48d38bc8-cefb-4604-b955-a649a4100c21
DTSTAMP:20260421T152936Z
DESCRIPTION:A discussion on changes that occur with age\, warning signs of 
 a memory problem\, and what to do if someone you love is experiencing symp
 toms.\n\nThis program is presented by the Insight Memory Care Team at the 
 Ashburn Library. <b>The program will be held in ROOM C.</b> Please contact
  the event contact listed below to register.
DTSTART;TZID=America/New_York:20240410T130000
DTEND;TZID=America/New_York:20240410T140000
LOCATION:Ashburn Library\,  43316 Hay Rd\, Ashburn\, VA 20147 US
SUMMARY:Normal Aging vs. Dementia
END:VEVENT
END:VCALENDAR
