BEGIN:VCALENDAR
VERSION:2.0
PRODID:-//www.insightmcc.org//NONSGML kigkonsult.se iCalcreator 2.30.10//
CALSCALE:GREGORIAN
METHOD:PUBLISH
UID:35b38b6e-5599-4a26-a3b2-9ddfd2cdf1d9
X-WR-CALDESC:This group will offer a safe\, welcoming and private setting f
 or caregivers to share their caregiving experiences\, connect with others 
 going through the same journey and receive insight from an expert. There w
 ill also be group discussions and educational presentations about relevant
  caregiving topics.\n\nFor April's group the topic will be Living Their Tr
 uth. It is important to recognize with dementia\nthat the person’s beliefs
  about reality are usually just as real to them as our reality is to us. W
 hen we build up this awareness of an individual’s ways of communicating\, 
 it not only helps us to find an effective response to a tricky question\, 
 it means we can also put plans in place to address the person’s needs.\n\n
 Please contact the event contact listed below to register.\n
X-WR-RELCALID:06bb178a3d9ea11c0aab401d44252413
X-WR-TIMEZONE:America/New_York
BEGIN:VTIMEZONE
TZID:America/New_York
BEGIN:STANDARD
TZNAME:EST
DTSTART:20231105T020000
TZOFFSETFROM:-0400
TZOFFSETTO:-0500
RDATE:20241103T020000
END:STANDARD
BEGIN:DAYLIGHT
TZNAME:EDT
DTSTART:20240310T020000
TZOFFSETFROM:-0500
TZOFFSETTO:-0400
RDATE:20250309T020000
END:DAYLIGHT
END:VTIMEZONE
BEGIN:VEVENT
UID:42be4eac-ed76-4546-a948-7755c1dd8a86
DTSTAMP:20260421T154234Z
DESCRIPTION:This group will offer a safe\, welcoming and private setting fo
 r caregivers to share their caregiving experiences\, connect with others g
 oing through the same journey and receive insight from an expert. There wi
 ll also be group discussions and educational presentations about relevant 
 caregiving topics.\n\nFor April's group the topic will be Living Their Tru
 th. It is important to recognize with dementia\nthat the person’s beliefs 
 about reality are usually just as real to them as our reality is to us. Wh
 en we build up this awareness of an individual’s ways of communicating\, i
 t not only helps us to find an effective response to a tricky question\, i
 t means we can also put plans in place to address the person’s needs.\n\nP
 lease contact the event contact listed below to register.\n
DTSTART;TZID=America/New_York:20240411T150000
DTEND;TZID=America/New_York:20240411T160000
LOCATION:Great Falls Assisted Living\, 1121 Reston Ave\, Herndon\, VA 20170
  US
SUMMARY:Caregiver Support Group - Living Their Truth
END:VEVENT
END:VCALENDAR
