BEGIN:VCALENDAR
VERSION:2.0
PRODID:-//www.insightmcc.org//NONSGML kigkonsult.se iCalcreator 2.30.10//
CALSCALE:GREGORIAN
METHOD:PUBLISH
UID:1b422b62-5af4-49a4-8545-34f86a1713c2
X-WR-CALDESC:The café is an opportunity for caregivers and their loved one 
 with mild cognitive impairment (MCI) or in the early to early mid-stage of
  their dementia journey to meet with others for support\, companionship\, 
 and fun! The program provides structured activities to promote reminiscenc
 e\, cognition\, and engagement. There is also time to share in conversatio
 n and get to know others in a safe\, supportive environment.\n\nThis café 
 meets in Room A in the Ashburn Library on the 3rd Monday. \n\nTo ensure we
  have space and program supplies for each participant\, we ask that you pl
 ease register in advance. We look forward to seeing you at the next café!
 \n\n\n&nbsp\;\n<strong><a href='https://insightmemory.app.neoncrm.com/even
 tReg.jsp?event=1429&' target='_blank' class='button' rel='noreferrer noope
 ner'>Sign Me Up!</a></strong>
X-WR-RELCALID:5aef77a4f369205408cc37f8e14270be
X-WR-TIMEZONE:America/New_York
BEGIN:VTIMEZONE
TZID:America/New_York
BEGIN:STANDARD
TZNAME:EST
DTSTART:20231105T020000
TZOFFSETFROM:-0400
TZOFFSETTO:-0500
RDATE:20241103T020000
END:STANDARD
BEGIN:DAYLIGHT
TZNAME:EDT
DTSTART:20240310T020000
TZOFFSETFROM:-0500
TZOFFSETTO:-0400
RDATE:20250309T020000
END:DAYLIGHT
END:VTIMEZONE
BEGIN:VEVENT
UID:59eb5bab-55f7-452d-9d87-ed2f8672280b
DTSTAMP:20260421T152457Z
DESCRIPTION:The café is an opportunity for caregivers and their loved one w
 ith mild cognitive impairment (MCI) or in the early to early mid-stage of 
 their dementia journey to meet with others for support\, companionship\, a
 nd fun! The program provides structured activities to promote reminiscence
 \, cognition\, and engagement. There is also time to share in conversation
  and get to know others in a safe\, supportive environment.\n\nThis café m
 eets in Room A in the Ashburn Library on the 3rd Monday. \n\nTo ensure we 
 have space and program supplies for each participant\, we ask that you ple
 ase register in advance. We look forward to seeing you at the next café!\n
 \n\n&nbsp\;\n<strong><a href='https://insightmemory.app.neoncrm.com/eventR
 eg.jsp?event=1429&' target='_blank' class='button' rel='noreferrer noopene
 r'>Sign Me Up!</a></strong>
DTSTART;TZID=America/New_York:20240415T110000
DTEND;TZID=America/New_York:20240415T120000
LOCATION:Ashburn Library\, 43316 Hay Road\, Ashburn\, VA 20147 US
SUMMARY:Ashburn Library Memory Café
END:VEVENT
END:VCALENDAR
