BEGIN:VCALENDAR
VERSION:2.0
PRODID:-//www.insightmcc.org//NONSGML kigkonsult.se iCalcreator 2.30.10//
CALSCALE:GREGORIAN
METHOD:PUBLISH
UID:2c2e3854-39a2-452e-883f-33067d5c9518
X-WR-CALDESC:Suicide is one of the leading causes of death in the U.S.\, af
 fecting people of all ages. Older adults are especially vulnerable to suic
 ide for a number of reasons. These range from grief over the passing of lo
 ved ones to chronic illness. Learn signs and symptoms of depression and ho
 w we can prevent and help each other on these journeys.\n\nThis class is o
 ffered by the The Osher Lifelong Learning Institute (OLLI) at George Mason
  University. Presented by Melissa Long\, Director of Education & Support a
 t Insight Memory Care Center.
X-WR-RELCALID:67ce39d3e559b4caa86bbaaa420d30ba
X-WR-TIMEZONE:America/New_York
BEGIN:VTIMEZONE
TZID:America/New_York
BEGIN:STANDARD
TZNAME:EST
DTSTART:20231105T020000
TZOFFSETFROM:-0400
TZOFFSETTO:-0500
RDATE:20241103T020000
END:STANDARD
BEGIN:DAYLIGHT
TZNAME:EDT
DTSTART:20240310T020000
TZOFFSETFROM:-0500
TZOFFSETTO:-0400
RDATE:20250309T020000
END:DAYLIGHT
END:VTIMEZONE
BEGIN:VEVENT
UID:a7415c36-5b1c-43f8-83c5-93304bad0f6a
DTSTAMP:20260421T154058Z
DESCRIPTION:Suicide is one of the leading causes of death in the U.S.\, aff
 ecting people of all ages. Older adults are especially vulnerable to suici
 de for a number of reasons. These range from grief over the passing of lov
 ed ones to chronic illness. Learn signs and symptoms of depression and how
  we can prevent and help each other on these journeys.\n\nThis class is of
 fered by the The Osher Lifelong Learning Institute (OLLI) at George Mason 
 University. Presented by Melissa Long\, Director of Education & Support at
  Insight Memory Care Center.
DTSTART;TZID=America/New_York:20240415T141500
DTEND;TZID=America/New_York:20240415T154000
LOCATION:https://olligmu.augusoft.net/index.cfm?method=ClassInfo.ClassInfor
 mation&int_class_id=7783&int_category_id=0&int_sub_category_id=0&int_catal
 og_id=0
SUMMARY:Reducing Depression and Suicide Rate in Older Adults
END:VEVENT
END:VCALENDAR
