BEGIN:VCALENDAR
VERSION:2.0
PRODID:-//www.insightmcc.org//NONSGML kigkonsult.se iCalcreator 2.30.10//
CALSCALE:GREGORIAN
METHOD:PUBLISH
UID:7b165b1c-c54d-4443-a51e-6eeb95efa609
X-WR-CALDESC:A discussion on changes that occur with age\, warning signs of
  a memory problem\, and what to do if someone you love is experiencing sym
 ptoms.\n\nThis program is presented by the Insight Memory Care Team at the
  Lorton Senior Center. Please contact the event contact listed below to re
 gister.
X-WR-RELCALID:128b3d40423f1db34c3e8aa4bb2fa950
X-WR-TIMEZONE:America/New_York
BEGIN:VTIMEZONE
TZID:America/New_York
BEGIN:STANDARD
TZNAME:EST
DTSTART:20231105T020000
TZOFFSETFROM:-0400
TZOFFSETTO:-0500
RDATE:20241103T020000
END:STANDARD
BEGIN:DAYLIGHT
TZNAME:EDT
DTSTART:20240310T020000
TZOFFSETFROM:-0500
TZOFFSETTO:-0400
RDATE:20250309T020000
END:DAYLIGHT
END:VTIMEZONE
BEGIN:VEVENT
UID:b82eb324-41de-4440-ad40-d9a9e61dc1ff
DTSTAMP:20260421T152648Z
DESCRIPTION:A discussion on changes that occur with age\, warning signs of 
 a memory problem\, and what to do if someone you love is experiencing symp
 toms.\n\nThis program is presented by the Insight Memory Care Team at the 
 Lorton Senior Center. Please contact the event contact listed below to reg
 ister.
DTSTART;TZID=America/New_York:20240419T130000
DTEND;TZID=America/New_York:20240419T140000
LOCATION:Lorton Senior Center\, 7722 Gunston Plz\, Lorton\, VA 22079 US
SUMMARY:Normal Aging vs. Dementia
END:VEVENT
END:VCALENDAR
