BEGIN:VCALENDAR
VERSION:2.0
PRODID:-//www.insightmcc.org//NONSGML kigkonsult.se iCalcreator 2.30.10//
CALSCALE:GREGORIAN
METHOD:PUBLISH
UID:e98c877f-dae0-497d-b919-b0178ab7ebf5
X-WR-CALDESC:Join us for this special bootcamp session to learn more about 
 alternative approaches and creative self-care!\n\n<b> 9:00 am - 10:30 am <
 /b>\nMedical and Alternative Interventions for Behaviors of Dementia\nDr. 
 Emmi Scott\, PhD & Dr. Jennifer Pauldurai\, MD\nDementia may present with 
 neuropsychiatric symptoms that may require pharmacological interventions. 
 The doctors will “weed through the evidence” on CBD and other alternative 
 products as well as touch on prescription medications as an option to help
  your loved ones have a better quality of life when they are struggling.\n
 \n<b> 10:30 am - 12:00 pm </b>\nBuilding Skills as a Caregiver\nLoretta Va
 ney\, LEGO Serious Play Facilitator\nThis session is designed to help care
 givers relax and enjoy themselves as Loretta leads them through LEGO build
 ing fun that will help them build or rebuild lots of joy\, hope or superpo
 wers to conquer caregiving challenges!\n\n\n <i>***This bootcamp is only f
 or the caregiver due to the topic and limited space. Thank you for underst
 anding! </i>\n\n<b>*** Respite care available*** Contact Melissa at: Melis
 sa.long@insightmcc.org </b>\n\n\nMany thanks to our sponsors\, Sunrise at 
 Reston Town Center & Greenspring Senior Living!\n\n<b>Sign up to claim you
 r spot today!</b> Space is limited for this session to allow everyone to a
 ctively participate.\n\n&nbsp\;\n<strong><a href='https://insightmemory.ap
 p.neoncrm.com/eventReg.jsp?event=1388&' class='button'>Sign Me Up!</a></st
 rong>\n
X-WR-RELCALID:ddac54e0885a37fd6ddf2208aac55331
X-WR-TIMEZONE:America/New_York
BEGIN:VTIMEZONE
TZID:America/New_York
BEGIN:STANDARD
TZNAME:EST
DTSTART:20231105T020000
TZOFFSETFROM:-0400
TZOFFSETTO:-0500
RDATE:20241103T020000
END:STANDARD
BEGIN:DAYLIGHT
TZNAME:EDT
DTSTART:20240310T020000
TZOFFSETFROM:-0500
TZOFFSETTO:-0400
RDATE:20250309T020000
END:DAYLIGHT
END:VTIMEZONE
BEGIN:VEVENT
UID:9197ac3e-20bd-4ff8-97a0-feba98b8fba6
DTSTAMP:20260421T152942Z
DESCRIPTION:Join us for this special bootcamp session to learn more about a
 lternative approaches and creative self-care!\n\n<b> 9:00 am - 10:30 am </
 b>\nMedical and Alternative Interventions for Behaviors of Dementia\nDr. E
 mmi Scott\, PhD & Dr. Jennifer Pauldurai\, MD\nDementia may present with n
 europsychiatric symptoms that may require pharmacological interventions. T
 he doctors will “weed through the evidence” on CBD and other alternative p
 roducts as well as touch on prescription medications as an option to help 
 your loved ones have a better quality of life when they are struggling.\n
 \n<b> 10:30 am - 12:00 pm </b>\nBuilding Skills as a Caregiver\nLoretta Va
 ney\, LEGO Serious Play Facilitator\nThis session is designed to help care
 givers relax and enjoy themselves as Loretta leads them through LEGO build
 ing fun that will help them build or rebuild lots of joy\, hope or superpo
 wers to conquer caregiving challenges!\n\n\n <i>***This bootcamp is only f
 or the caregiver due to the topic and limited space. Thank you for underst
 anding! </i>\n\n<b>*** Respite care available*** Contact Melissa at: Melis
 sa.long@insightmcc.org </b>\n\n\nMany thanks to our sponsors\, Sunrise at 
 Reston Town Center & Greenspring Senior Living!\n\n<b>Sign up to claim you
 r spot today!</b> Space is limited for this session to allow everyone to a
 ctively participate.\n\n&nbsp\;\n<strong><a href='https://insightmemory.ap
 p.neoncrm.com/eventReg.jsp?event=1388&' class='button'>Sign Me Up!</a></st
 rong>\n
DTSTART;TZID=America/New_York:20240420T090000
DTEND;TZID=America/New_York:20240420T120000
LOCATION:Insight Memory Care Center - Fairfax \, 3953 Pender Drive\, Suite 
 100\, Fairfax\, VA 22030 US
SUMMARY:Caregiver Bootcamp
END:VEVENT
END:VCALENDAR
