BEGIN:VCALENDAR
VERSION:2.0
PRODID:-//www.insightmcc.org//NONSGML kigkonsult.se iCalcreator 2.30.10//
CALSCALE:GREGORIAN
METHOD:PUBLISH
UID:bb46a884-cd66-47eb-a046-689cb6f17457
X-WR-CALDESC:A discussion on changes that occur with age\, warning signs of
  a memory problem\, and what to do if someone you love is experiencing sym
 ptoms.\n\nThis program is presented by the Insight Memory Care Team at the
  Ashburn Library. Please contact the event contact listed below to registe
 r.
X-WR-RELCALID:541de8a5f7020aea32f4ec93e156a130
X-WR-TIMEZONE:America/New_York
BEGIN:VTIMEZONE
TZID:America/New_York
BEGIN:STANDARD
TZNAME:EST
DTSTART:20231105T020000
TZOFFSETFROM:-0400
TZOFFSETTO:-0500
RDATE:20241103T020000
END:STANDARD
BEGIN:DAYLIGHT
TZNAME:EDT
DTSTART:20240310T020000
TZOFFSETFROM:-0500
TZOFFSETTO:-0400
RDATE:20250309T020000
END:DAYLIGHT
END:VTIMEZONE
BEGIN:VEVENT
UID:c7727bd7-9023-4134-bcc8-f94be5f3491d
DTSTAMP:20260421T152936Z
DESCRIPTION:A discussion on changes that occur with age\, warning signs of 
 a memory problem\, and what to do if someone you love is experiencing symp
 toms.\n\nThis program is presented by the Insight Memory Care Team at the 
 Ashburn Library. Please contact the event contact listed below to register
 .
DTSTART;TZID=America/New_York:20240430T190000
DTEND;TZID=America/New_York:20240430T200000
LOCATION:Ashburn Library\, 43316 Hay Road\, Ashburn\, VA 20147 US
SUMMARY:Normal Aging vs. Dementia
END:VEVENT
END:VCALENDAR
