BEGIN:VCALENDAR
VERSION:2.0
PRODID:-//www.insightmcc.org//NONSGML kigkonsult.se iCalcreator 2.30.10//
CALSCALE:GREGORIAN
METHOD:PUBLISH
UID:ba363b60-995e-4604-9c19-650a6945a975
X-WR-CALDESC:Food not only provides us with nutritional needs\, but also br
 ings us joy and pleasure. That can change as we age. From taste buds chang
 ing\, dental health can be more challenging\, arthritis can make food prep
  painful\, and medications and mood disorders can steal our appetite. Let'
 s learn some quick\, easy and healthy ways to meet those needs. Presented 
 by Melissa Long\, Director of Education and Support at Insight Memory Care
  Center.\n\nThis event is virtual and presented by DFA Northern Prince Geo
 rge's County\, please register at the link below.
X-WR-RELCALID:c4415a315ba24749d512a9a503e603c6
X-WR-TIMEZONE:America/New_York
BEGIN:VTIMEZONE
TZID:America/New_York
BEGIN:STANDARD
TZNAME:EST
DTSTART:20231105T020000
TZOFFSETFROM:-0400
TZOFFSETTO:-0500
RDATE:20241103T020000
END:STANDARD
BEGIN:DAYLIGHT
TZNAME:EDT
DTSTART:20240310T020000
TZOFFSETFROM:-0500
TZOFFSETTO:-0400
RDATE:20250309T020000
END:DAYLIGHT
END:VTIMEZONE
BEGIN:VEVENT
UID:815f2105-4854-4665-b269-a0036acd2055
DTSTAMP:20260421T141339Z
DESCRIPTION:Food not only provides us with nutritional needs\, but also bri
 ngs us joy and pleasure. That can change as we age. From taste buds changi
 ng\, dental health can be more challenging\, arthritis can make food prep 
 painful\, and medications and mood disorders can steal our appetite. Let's
  learn some quick\, easy and healthy ways to meet those needs. Presented b
 y Melissa Long\, Director of Education and Support at Insight Memory Care 
 Center.\n\nThis event is virtual and presented by DFA Northern Prince Geor
 ge's County\, please register at the link below.
DTSTART;TZID=America/New_York:20240502T190000
DTEND;TZID=America/New_York:20240502T200000
LOCATION:https://attendee.gotowebinar.com/register/1105671528391401817
SUMMARY:Nutrition For Older Adults
END:VEVENT
END:VCALENDAR
