BEGIN:VCALENDAR
VERSION:2.0
PRODID:-//www.insightmcc.org//NONSGML kigkonsult.se iCalcreator 2.30.10//
CALSCALE:GREGORIAN
METHOD:PUBLISH
UID:4d9f5070-4752-4dba-bd16-3b8aecb578a7
X-WR-CALDESC:Dementia does not discriminate - it affects people of all cult
 ures and backgrounds. People’s backgrounds and beliefs inform their sense 
 of self\, how they understand\, feel about\, and respond to other people a
 nd their environment - including diagnoses\, health and care organizations
  and their staff. It is important to know how to best provide care to meet
  one's needs while recognizing their cultural values and beliefs. Join us 
 for an in-depth training on cultural specific care and how you can meet th
 e person where they are with their needs.\n\n<b>This class will be held bo
 th virtually and in-person in Fairfax. </b> Please select your attendance 
 type when you register.\n\nThe in-person session will be held in the Mazaw
 ey Education and Support Center\, 3955 Pender Drive\, Suite 100\, Fairfax\
 , VA 22030.\n\nVirtual attendees will receive Zoom information prior to th
 e class.\n\nThis program is a part of our monthly Care Partner Training se
 ries. All sessions are FREE\, and held the second Wednesday of each month 
 from 1:00 to 2:30 pm.\n\n\n&nbsp\;\n<strong><a href='https://insightmemory
 .app.neoncrm.com/eventReg.jsp?event=1444&' class='button'>Sign Me Up - In 
 Person</a></strong>\n\n<strong><a href='https://insightmemory.app.neoncrm.
 com/eventReg.jsp?event=1449&' class='button'>Sign Me Up - Virtual</a></str
 ong>\n\n<b> Presenter </b>\n<i> Sharon Napper\, Certified Dementia Practit
 ioner and Professional Trainer\, Alzheimer’s Association-Greater Richmond 
 Chapter</i>\nSharon Napper has been a resident of Virginia since 1999. She
  has served her community as a special education teacher assistant\, pedia
 tric nurse\, cardiac acute care nurse\, orthopedic step-down nurse\, and a
  medical surgery clinical nurse for 16 years in the central Virginia area.
  She has seen the need for more education and outreach in the community de
 aling with our great struggles with food deserts\, high blood pressure\, d
 iabetes\, and Alzheimer’s and as a whole healthcare inequality in the comm
 onwealth of Virginia. She is a Certified Dementia Practitioner and Profess
 ional Trainer for the state with the Greater Richmond Chapter Alzheimer’s 
 Association.
X-WR-RELCALID:75f17113816b727f9ca41389069bd59e
X-WR-TIMEZONE:America/New_York
BEGIN:VTIMEZONE
TZID:America/New_York
BEGIN:STANDARD
TZNAME:EST
DTSTART:20231105T020000
TZOFFSETFROM:-0400
TZOFFSETTO:-0500
RDATE:20241103T020000
RDATE:20251102T020000
END:STANDARD
BEGIN:DAYLIGHT
TZNAME:EDT
DTSTART:20240310T020000
TZOFFSETFROM:-0500
TZOFFSETTO:-0400
RDATE:20250309T020000
END:DAYLIGHT
END:VTIMEZONE
BEGIN:VEVENT
UID:6e47d8c6-d586-4779-b22b-b6c13d0ff90b
DTSTAMP:20260421T140704Z
DESCRIPTION:Dementia does not discriminate - it affects people of all cultu
 res and backgrounds. People’s backgrounds and beliefs inform their sense o
 f self\, how they understand\, feel about\, and respond to other people an
 d their environment - including diagnoses\, health and care organizations 
 and their staff. It is important to know how to best provide care to meet 
 one's needs while recognizing their cultural values and beliefs. Join us f
 or an in-depth training on cultural specific care and how you can meet the
  person where they are with their needs.\n\n<b>This class will be held bot
 h virtually and in-person in Fairfax. </b> Please select your attendance t
 ype when you register.\n\nThe in-person session will be held in the Mazawe
 y Education and Support Center\, 3955 Pender Drive\, Suite 100\, Fairfax\,
  VA 22030.\n\nVirtual attendees will receive Zoom information prior to the
  class.\n\nThis program is a part of our monthly Care Partner Training ser
 ies. All sessions are FREE\, and held the second Wednesday of each month f
 rom 1:00 to 2:30 pm.\n\n\n&nbsp\;\n<strong><a href='https://insightmemory.
 app.neoncrm.com/eventReg.jsp?event=1444&' class='button'>Sign Me Up - In P
 erson</a></strong>\n\n<strong><a href='https://insightmemory.app.neoncrm.c
 om/eventReg.jsp?event=1449&' class='button'>Sign Me Up - Virtual</a></stro
 ng>\n\n<b> Presenter </b>\n<i> Sharon Napper\, Certified Dementia Practiti
 oner and Professional Trainer\, Alzheimer’s Association-Greater Richmond C
 hapter</i>\nSharon Napper has been a resident of Virginia since 1999. She 
 has served her community as a special education teacher assistant\, pediat
 ric nurse\, cardiac acute care nurse\, orthopedic step-down nurse\, and a 
 medical surgery clinical nurse for 16 years in the central Virginia area. 
 She has seen the need for more education and outreach in the community dea
 ling with our great struggles with food deserts\, high blood pressure\, di
 abetes\, and Alzheimer’s and as a whole healthcare inequality in the commo
 nwealth of Virginia. She is a Certified Dementia Practitioner and Professi
 onal Trainer for the state with the Greater Richmond Chapter Alzheimer’s A
 ssociation.
DTSTART;TZID=America/New_York:20240508T130000
DTEND;TZID=America/New_York:20240508T143000
LOCATION:Hybrid! Virtual and in-person at Insight Memory Care Center - Fair
 fax
SUMMARY:Culturally Specific Care for Dementia
END:VEVENT
END:VCALENDAR
