BEGIN:VCALENDAR
VERSION:2.0
PRODID:-//www.insightmcc.org//NONSGML kigkonsult.se iCalcreator 2.30.10//
CALSCALE:GREGORIAN
METHOD:PUBLISH
UID:22b1e7e2-aedb-45b1-abcd-1ce6c2cac625
X-WR-CALDESC:This group will offer a safe\, welcoming and private setting f
 or caregivers to share their caregiving experiences\, connect with others 
 going through the same journey and receive insight from an expert. There w
 ill also be group discussions and educational presentations about relevant
  caregiving topics.\n\nFor May's group the topic will be Caregiving Like Y
 ou're on a Cruise. Caregiving doesn’t always feel like a vacation\, but ma
 ny lessons from “cruising” can offer respite. Come aboard the Insight of t
 he Seas for supportive tips in caregiving. \n\nPlease contact the event co
 ntact listed below to register.
X-WR-RELCALID:6aab712b2356f7a076743b0774817d12
X-WR-TIMEZONE:America/New_York
BEGIN:VTIMEZONE
TZID:America/New_York
BEGIN:STANDARD
TZNAME:EST
DTSTART:20231105T020000
TZOFFSETFROM:-0400
TZOFFSETTO:-0500
RDATE:20241103T020000
RDATE:20251102T020000
END:STANDARD
BEGIN:DAYLIGHT
TZNAME:EDT
DTSTART:20240310T020000
TZOFFSETFROM:-0500
TZOFFSETTO:-0400
RDATE:20250309T020000
END:DAYLIGHT
END:VTIMEZONE
BEGIN:VEVENT
UID:fb002dad-f242-4396-acc4-c8ae2ba3a722
DTSTAMP:20260421T141821Z
DESCRIPTION:This group will offer a safe\, welcoming and private setting fo
 r caregivers to share their caregiving experiences\, connect with others g
 oing through the same journey and receive insight from an expert. There wi
 ll also be group discussions and educational presentations about relevant 
 caregiving topics.\n\nFor May's group the topic will be Caregiving Like Yo
 u're on a Cruise. Caregiving doesn’t always feel like a vacation\, but man
 y lessons from “cruising” can offer respite. Come aboard the Insight of th
 e Seas for supportive tips in caregiving. \n\nPlease contact the event con
 tact listed below to register.
DTSTART;TZID=America/New_York:20240509T150000
DTEND;TZID=America/New_York:20240509T160000
LOCATION:Great Falls Assisted Living\, 1121 Reston Ave\, Herndon\, VA 20170
  US
SUMMARY:Caregiver Support Group - Caregiving Like You're on a Cruise
END:VEVENT
END:VCALENDAR
