BEGIN:VCALENDAR
VERSION:2.0
PRODID:-//www.insightmcc.org//NONSGML kigkonsult.se iCalcreator 2.30.10//
CALSCALE:GREGORIAN
METHOD:PUBLISH
UID:760653dd-9189-42af-9f14-8d67ff9ccba8
X-WR-CALDESC:<b>Join the Friends of Insight as we enjoy some wine with frie
 nds at Paradise Springs Winery!</b>\n\nThis is a Friends of Insight event 
 open to all current and potential members. We will be at the winery from 3
 :00 to 6:00 pm\; stay for as little or long as you'd like. Come and enjoy 
 wine and snacks\, while catching up with Insight Friends!\n\n&nbsp\;\n<str
 ong><a href='https://insightmemory.app.neoncrm.com/eventReg.jsp?event=1404
 &' class='button'>Sign Me Up!</a></strong>
X-WR-RELCALID:3e5d4e587b3a8302cbf609c4388881dd
X-WR-TIMEZONE:America/New_York
BEGIN:VTIMEZONE
TZID:America/New_York
BEGIN:STANDARD
TZNAME:EST
DTSTART:20231105T020000
TZOFFSETFROM:-0400
TZOFFSETTO:-0500
RDATE:20241103T020000
RDATE:20251102T020000
END:STANDARD
BEGIN:DAYLIGHT
TZNAME:EDT
DTSTART:20240310T020000
TZOFFSETFROM:-0500
TZOFFSETTO:-0400
RDATE:20250309T020000
END:DAYLIGHT
END:VTIMEZONE
BEGIN:VEVENT
UID:a37f68e6-0bb7-4ebe-84f0-ba08b7ef1b74
DTSTAMP:20260421T141137Z
DESCRIPTION:<b>Join the Friends of Insight as we enjoy some wine with frien
 ds at Paradise Springs Winery!</b>\n\nThis is a Friends of Insight event o
 pen to all current and potential members. We will be at the winery from 3:
 00 to 6:00 pm\; stay for as little or long as you'd like. Come and enjoy w
 ine and snacks\, while catching up with Insight Friends!\n\n&nbsp\;\n<stro
 ng><a href='https://insightmemory.app.neoncrm.com/eventReg.jsp?event=1404&
 ' class='button'>Sign Me Up!</a></strong>
DTSTART;TZID=America/New_York:20240515T150000
DTEND;TZID=America/New_York:20240515T180000
LOCATION:Paradise Springs Winery\, 13219 Yates Ford Rd\, Clifton\, VA 20124
  US
SUMMARY:Wine with Friends
END:VEVENT
END:VCALENDAR
