BEGIN:VCALENDAR
VERSION:2.0
PRODID:-//www.insightmcc.org//NONSGML kigkonsult.se iCalcreator 2.30.10//
CALSCALE:GREGORIAN
METHOD:PUBLISH
UID:b645315e-9c0e-438c-a305-70edcf515673
X-WR-CALDESC:Join us for a discussion about the importance of social engage
 ment when aging. Research has found that social support can play a signifi
 cant role in overall health as people age. Spending time with friends and 
 family members can boost quality of life\, including both physical and men
 tal health.\n\nThis program is presented by the Insight Memory Care Team a
 t the Lorton Senior Center.
X-WR-RELCALID:cbdecb84de95681b3ef960453f8e2553
X-WR-TIMEZONE:America/New_York
BEGIN:VTIMEZONE
TZID:America/New_York
BEGIN:STANDARD
TZNAME:EST
DTSTART:20231105T020000
TZOFFSETFROM:-0400
TZOFFSETTO:-0500
RDATE:20241103T020000
RDATE:20251102T020000
END:STANDARD
BEGIN:DAYLIGHT
TZNAME:EDT
DTSTART:20240310T020000
TZOFFSETFROM:-0500
TZOFFSETTO:-0400
RDATE:20250309T020000
END:DAYLIGHT
END:VTIMEZONE
BEGIN:VEVENT
UID:bd19b22d-16d8-4b09-ab9e-06f1d975b930
DTSTAMP:20260421T142410Z
DESCRIPTION:Join us for a discussion about the importance of social engagem
 ent when aging. Research has found that social support can play a signific
 ant role in overall health as people age. Spending time with friends and f
 amily members can boost quality of life\, including both physical and ment
 al health.\n\nThis program is presented by the Insight Memory Care Team at
  the Lorton Senior Center.
DTSTART;TZID=America/New_York:20240517T130000
DTEND;TZID=America/New_York:20240517T140000
LOCATION:Lorton Senior Center\, 7722 Gunston Plz\, Lorton\, VA 22079 US
SUMMARY:Importance of Social Engagement
END:VEVENT
END:VCALENDAR
