BEGIN:VCALENDAR
VERSION:2.0
PRODID:-//www.insightmcc.org//NONSGML kigkonsult.se iCalcreator 2.30.10//
CALSCALE:GREGORIAN
METHOD:PUBLISH
UID:faea691a-c02c-4d41-b3db-4269e6a5cce2
X-WR-CALDESC:Knowing your circle of support is a wise feature of a successf
 ul caregiving experience. To help you get started building or strengthenin
 g your network\, please join Kensington Reston and Insight Memory Care for
  an information-packed event about the wealth of resources around you and 
 in your community. Learn how to identify family\, friends and skilled prof
 essionals who can give you time and space for self-care. Get tips on when 
 to ask for help\, how to ask for help\, and how to rely on your help regul
 arly so you can achieve and sustain balance in your life.\n\nPresented by 
 Beth Kilgore-Robinson\, Director of Family Support Services at Insight Mem
 ory Care Center. Register at the link below.
X-WR-RELCALID:7563da56c992f07a6733efa8cdb89a3e
X-WR-TIMEZONE:America/New_York
BEGIN:VTIMEZONE
TZID:America/New_York
BEGIN:STANDARD
TZNAME:EST
DTSTART:20231105T020000
TZOFFSETFROM:-0400
TZOFFSETTO:-0500
RDATE:20241103T020000
RDATE:20251102T020000
END:STANDARD
BEGIN:DAYLIGHT
TZNAME:EDT
DTSTART:20240310T020000
TZOFFSETFROM:-0500
TZOFFSETTO:-0400
RDATE:20250309T020000
END:DAYLIGHT
END:VTIMEZONE
BEGIN:VEVENT
UID:ee05fe3f-e3e4-46a3-9649-7f3173949d55
DTSTAMP:20260421T142420Z
DESCRIPTION:Knowing your circle of support is a wise feature of a successfu
 l caregiving experience. To help you get started building or strengthening
  your network\, please join Kensington Reston and Insight Memory Care for 
 an information-packed event about the wealth of resources around you and i
 n your community. Learn how to identify family\, friends and skilled profe
 ssionals who can give you time and space for self-care. Get tips on when t
 o ask for help\, how to ask for help\, and how to rely on your help regula
 rly so you can achieve and sustain balance in your life.\n\nPresented by B
 eth Kilgore-Robinson\, Director of Family Support Services at Insight Memo
 ry Care Center. Register at the link below.
DTSTART;TZID=America/New_York:20240518T140000
DTEND;TZID=America/New_York:20240518T153000
LOCATION:The Kensington Reston\, 11501 Sunrise Valley Dr\, Reston\, VA 2019
 1 US
SUMMARY:It Takes a Village: Building Your Caregiver Support Circle
END:VEVENT
END:VCALENDAR
