BEGIN:VCALENDAR
VERSION:2.0
PRODID:-//www.insightmcc.org//NONSGML kigkonsult.se iCalcreator 2.30.10//
CALSCALE:GREGORIAN
METHOD:PUBLISH
UID:66c0951d-5715-4c51-a2f3-9b0adef18e3c
X-WR-CALDESC:The Virginia Department of Veterans Services (DVS) connects Vi
 rginia’s veterans and their families to federal and state benefits\, suppo
 rt\, quality care\, and recognition they have earned.\n\nThe Virginia DVS 
 will join us for a virtual live discussion about the services they provide
  for older adults. Get your questions answered and learn more about resour
 ces available.\n\nZoom link provided upon registration.\n\n\n&nbsp\;\n<str
 ong><a href='https://insightmemory.app.neoncrm.com/eventReg.jsp?event=1439
 &' target='_blank' class='button' rel='noreferrer noopener'>Sign Me Up!</a
 ></strong>\n\n
X-WR-RELCALID:521a174236c64f6c604088898f421b14
X-WR-TIMEZONE:America/New_York
BEGIN:VTIMEZONE
TZID:America/New_York
BEGIN:STANDARD
TZNAME:EST
DTSTART:20231105T020000
TZOFFSETFROM:-0400
TZOFFSETTO:-0500
RDATE:20241103T020000
RDATE:20251102T020000
END:STANDARD
BEGIN:DAYLIGHT
TZNAME:EDT
DTSTART:20240310T020000
TZOFFSETFROM:-0500
TZOFFSETTO:-0400
RDATE:20250309T020000
END:DAYLIGHT
END:VTIMEZONE
BEGIN:VEVENT
UID:eeb494b4-e295-4b9d-b045-3744b69643f6
DTSTAMP:20260421T141643Z
DESCRIPTION:The Virginia Department of Veterans Services (DVS) connects Vir
 ginia’s veterans and their families to federal and state benefits\, suppor
 t\, quality care\, and recognition they have earned.\n\nThe Virginia DVS w
 ill join us for a virtual live discussion about the services they provide 
 for older adults. Get your questions answered and learn more about resourc
 es available.\n\nZoom link provided upon registration.\n\n\n&nbsp\;\n<stro
 ng><a href='https://insightmemory.app.neoncrm.com/eventReg.jsp?event=1439&
 ' target='_blank' class='button' rel='noreferrer noopener'>Sign Me Up!</a>
 </strong>\n\n
DTSTART;TZID=America/New_York:20240522T190000
DTEND;TZID=America/New_York:20240522T200000
LOCATION:Virtual! Zoom link provided upon registration.
SUMMARY:Services for Older Adults from Virginia Veterans Services - Virtual
  Discussion
END:VEVENT
END:VCALENDAR
