BEGIN:VCALENDAR
VERSION:2.0
PRODID:-//www.insightmcc.org//NONSGML kigkonsult.se iCalcreator 2.30.10//
CALSCALE:GREGORIAN
METHOD:PUBLISH
UID:2cd4cd5a-386a-4706-926a-e1e55ddd5d00
X-WR-CALDESC:Insight Memory Care Center will offer free\, confidential memo
 ry screenings and educational materials to people with concerns about thei
 r memory or who want to check their memory now for future comparison.
X-WR-RELCALID:14fbabb66a248f3c29e58d36de02dc25
X-WR-TIMEZONE:America/New_York
BEGIN:VTIMEZONE
TZID:America/New_York
BEGIN:STANDARD
TZNAME:EST
DTSTART:20231105T020000
TZOFFSETFROM:-0400
TZOFFSETTO:-0500
RDATE:20241103T020000
RDATE:20251102T020000
END:STANDARD
BEGIN:DAYLIGHT
TZNAME:EDT
DTSTART:20240310T020000
TZOFFSETFROM:-0500
TZOFFSETTO:-0400
RDATE:20250309T020000
END:DAYLIGHT
END:VTIMEZONE
BEGIN:VEVENT
UID:3283f036-0f71-4cbb-b057-ca4eebf70333
DTSTAMP:20260421T141003Z
DESCRIPTION:Insight Memory Care Center will offer free\, confidential memor
 y screenings and educational materials to people with concerns about their
  memory or who want to check their memory now for future comparison.
DTSTART;TZID=America/New_York:20240524T143000
DTEND;TZID=America/New_York:20240524T170000
LOCATION:Ashburn Library (Meeting Room A)\, 43316 Hay Road\, Ashburn\, VA 2
 0147 US
SUMMARY:Memory Screenings at Ashburn Library
END:VEVENT
END:VCALENDAR
