BEGIN:VCALENDAR
VERSION:2.0
PRODID:-//www.insightmcc.org//NONSGML kigkonsult.se iCalcreator 2.30.10//
CALSCALE:GREGORIAN
METHOD:PUBLISH
UID:04d55821-f904-4a8a-a0b9-7557d2512782
X-WR-CALDESC:Insight will be closed for Memorial Day. Enjoy your holiday!
X-WR-RELCALID:bebb0470b8d45460d806514e82053208
X-WR-TIMEZONE:America/New_York
BEGIN:VTIMEZONE
TZID:America/New_York
BEGIN:STANDARD
TZNAME:EST
DTSTART:20231105T020000
TZOFFSETFROM:-0400
TZOFFSETTO:-0500
RDATE:20241103T020000
RDATE:20251102T020000
END:STANDARD
BEGIN:DAYLIGHT
TZNAME:EDT
DTSTART:20240310T020000
TZOFFSETFROM:-0500
TZOFFSETTO:-0400
RDATE:20250309T020000
END:DAYLIGHT
END:VTIMEZONE
BEGIN:VEVENT
UID:5f7d3353-6a0e-4c9e-8994-329bd658d054
DTSTAMP:20260421T140423Z
DESCRIPTION:Insight will be closed for Memorial Day. Enjoy your holiday!
DTSTART;TZID=America/New_York:20240527T060000
DTEND;TZID=America/New_York:20240527T060001
LOCATION:
SUMMARY:Insight Closed
END:VEVENT
END:VCALENDAR
