BEGIN:VCALENDAR
VERSION:2.0
PRODID:-//www.insightmcc.org//NONSGML kigkonsult.se iCalcreator 2.30.10//
CALSCALE:GREGORIAN
METHOD:PUBLISH
UID:a64305e3-d698-45d8-867a-d95ce9adfb9a
X-WR-CALDESC:<b>Learn concrete strategies to continue living independently 
 with dementia with this FREE educational and social program designed to su
 pport people living independently with dementia or MCI!</b>\n\nThe Effecti
 ve Strategies Program provides people with early memory and cognitive defi
 cits education about memory loss and dementia\, emotional support\, and ev
 idence-based tools to sustain a high quality of life and functional indepe
 ndence.\n\nThis is an 18 session program over 9 weeks for people with mild
  cognitive impairment (MCI) or early-stage dementia\, as well as a care pa
 rtner.\n\nEach session is 90 minutes\, with an hour of instruction and 30 
 minutes of discussion and socializing over refreshments. Sessions are led 
 by a variety\nof experts in fields such as neurology\, neuropsychology\, s
 peech therapy\, occupational therapy\, physical therapy\, art therapy\, mu
 sic therapy\, recreation therapy\, social work\, and more!\n\nSpace is lim
 ited so that everyone can actively participate. Attendees are committing t
 o come to all sessions in the program as they are able to gain the full be
 nefit of the program.\n\nProgram will be held Tuesdays & Fridays from Apri
 l 9 through June 7 from 3:30 pm to 5:00 pm.\n\n<b>Program Dates:</b>\n\nAp
 ril: Tues 4/9/24\, Fri 4/12/24\, Tues 4/16/24\, Fri 4/19/24\, Tues 4/23/24
 \, Fri 4/26/24\, Tues 4/30/24\,\n\nMay: Fri 5/3/24\, Tues 5/7/24\, Fri 5/1
 0/24\, Tues 5/14/24\, Fri 5/17/24\, Tues 5/21/24\, Fri 5/24/24\, Tues 5/28
 /24\, Fri 5/31/24\n\nJune: Tues 6/4/24\, Fri 6/7/24\n\nThe Effective Strat
 egies Program is a partnership between Insight Memory Care Center and the 
 Inova Brain Health Program. <b> Deadline to register is April 1! </b>\n\n&
 nbsp\;\n<strong><a href='https://insightmemory.app.neoncrm.com/eventReg.js
 p?event=1317&' target='_blank' class='button' rel='noreferrer noopener'>Si
 gn Me Up!</a></strong>
X-WR-RELCALID:e3da3751ea8cd6aa5afdd6e6f92cfb20
X-WR-TIMEZONE:America/New_York
BEGIN:VTIMEZONE
TZID:America/New_York
BEGIN:STANDARD
TZNAME:EST
DTSTART:20231105T020000
TZOFFSETFROM:-0400
TZOFFSETTO:-0500
RDATE:20241103T020000
RDATE:20251102T020000
END:STANDARD
BEGIN:DAYLIGHT
TZNAME:EDT
DTSTART:20240310T020000
TZOFFSETFROM:-0500
TZOFFSETTO:-0400
RDATE:20250309T020000
END:DAYLIGHT
END:VTIMEZONE
BEGIN:VEVENT
UID:ab6d8a71-da44-4dd4-ad10-dd8fe20d0ff7
DTSTAMP:20260421T140352Z
DESCRIPTION:<b>Learn concrete strategies to continue living independently w
 ith dementia with this FREE educational and social program designed to sup
 port people living independently with dementia or MCI!</b>\n\nThe Effectiv
 e Strategies Program provides people with early memory and cognitive defic
 its education about memory loss and dementia\, emotional support\, and evi
 dence-based tools to sustain a high quality of life and functional indepen
 dence.\n\nThis is an 18 session program over 9 weeks for people with mild 
 cognitive impairment (MCI) or early-stage dementia\, as well as a care par
 tner.\n\nEach session is 90 minutes\, with an hour of instruction and 30 m
 inutes of discussion and socializing over refreshments. Sessions are led b
 y a variety\nof experts in fields such as neurology\, neuropsychology\, sp
 eech therapy\, occupational therapy\, physical therapy\, art therapy\, mus
 ic therapy\, recreation therapy\, social work\, and more!\n\nSpace is limi
 ted so that everyone can actively participate. Attendees are committing to
  come to all sessions in the program as they are able to gain the full ben
 efit of the program.\n\nProgram will be held Tuesdays & Fridays from April
  9 through June 7 from 3:30 pm to 5:00 pm.\n\n<b>Program Dates:</b>\n\nApr
 il: Tues 4/9/24\, Fri 4/12/24\, Tues 4/16/24\, Fri 4/19/24\, Tues 4/23/24\
 , Fri 4/26/24\, Tues 4/30/24\,\n\nMay: Fri 5/3/24\, Tues 5/7/24\, Fri 5/10
 /24\, Tues 5/14/24\, Fri 5/17/24\, Tues 5/21/24\, Fri 5/24/24\, Tues 5/28/
 24\, Fri 5/31/24\n\nJune: Tues 6/4/24\, Fri 6/7/24\n\nThe Effective Strate
 gies Program is a partnership between Insight Memory Care Center and the I
 nova Brain Health Program. <b> Deadline to register is April 1! </b>\n\n&n
 bsp\;\n<strong><a href='https://insightmemory.app.neoncrm.com/eventReg.jsp
 ?event=1317&' target='_blank' class='button' rel='noreferrer noopener'>Sig
 n Me Up!</a></strong>
DTSTART;TZID=America/New_York:20240528T153000
DTEND;TZID=America/New_York:20240528T170000
LOCATION:Insight - Fairfax Education & Support Center\, 3955 Pender Drive\,
  Suite 100\, Fairfax\, VA 22030 US
SUMMARY:Effective Strategies Program
END:VEVENT
END:VCALENDAR
