BEGIN:VCALENDAR
VERSION:2.0
PRODID:-//www.insightmcc.org//NONSGML kigkonsult.se iCalcreator 2.30.10//
CALSCALE:GREGORIAN
METHOD:PUBLISH
UID:1b9b8258-98aa-429e-9657-5043ee49da3c
X-WR-CALDESC:Representatives from the Veterans Health Administration at the
  Washington DC VA Medical Center will join us for a virtual live discussio
 n about the services they provide in regards to Geriatrics and Extended Ca
 re and Caregiver Support. Get your questions answered and learn more about
  resources available. \n\n\nZoom link provided upon registration.\n\n\n\n&
 nbsp\;\n<strong><a href='https://insightmemory.app.neoncrm.com/eventReg.js
 p?event=1454&' target='_blank' class='button' rel='noreferrer noopener'>Si
 gn Me Up!</a></strong>\n
X-WR-RELCALID:fb7ebeea7a95565041ccb84e2f912aba
X-WR-TIMEZONE:America/New_York
BEGIN:VTIMEZONE
TZID:America/New_York
BEGIN:STANDARD
TZNAME:EST
DTSTART:20231105T020000
TZOFFSETFROM:-0400
TZOFFSETTO:-0500
RDATE:20241103T020000
RDATE:20251102T020000
END:STANDARD
BEGIN:DAYLIGHT
TZNAME:EDT
DTSTART:20240310T020000
TZOFFSETFROM:-0500
TZOFFSETTO:-0400
RDATE:20250309T020000
END:DAYLIGHT
END:VTIMEZONE
BEGIN:VEVENT
UID:17f60efd-caff-462d-90ea-98ca576a7c6f
DTSTAMP:20260421T141518Z
DESCRIPTION:Representatives from the Veterans Health Administration at the 
 Washington DC VA Medical Center will join us for a virtual live discussion
  about the services they provide in regards to Geriatrics and Extended Car
 e and Caregiver Support. Get your questions answered and learn more about 
 resources available. \n\n\nZoom link provided upon registration.\n\n\n\n&n
 bsp\;\n<strong><a href='https://insightmemory.app.neoncrm.com/eventReg.jsp
 ?event=1454&' target='_blank' class='button' rel='noreferrer noopener'>Sig
 n Me Up!</a></strong>\n
DTSTART;TZID=America/New_York:20240529T190000
DTEND;TZID=America/New_York:20240529T200000
LOCATION:Virtual! Zoom link provided upon registration.
SUMMARY:Veterans Health Administration Geriatrics and Caregiver Support - V
 irtual Discussion
END:VEVENT
END:VCALENDAR
