BEGIN:VCALENDAR
VERSION:2.0
PRODID:-//www.insightmcc.org//NONSGML kigkonsult.se iCalcreator 2.30.10//
CALSCALE:GREGORIAN
METHOD:PUBLISH
UID:ae99fa1b-d68a-4188-a3b6-f0d4c2998e1c
X-WR-CALDESC:Learn more about age-related changes in memory and learning\, 
 and practices to keep your brain sharp! Learn what to expect\, what’s “nor
 mal\,” and when it’s time to seek a doctor’s input.\n\nThis program is pre
 sented by the Insight Memory Care Team at the Vienna Community Center. Ple
 ase contact the event contact listed below to register.
X-WR-RELCALID:9614c1a1844cae8c5f17327d2f06d89b
X-WR-TIMEZONE:America/New_York
BEGIN:VTIMEZONE
TZID:America/New_York
BEGIN:STANDARD
TZNAME:EST
DTSTART:20231105T020000
TZOFFSETFROM:-0400
TZOFFSETTO:-0500
RDATE:20241103T020000
RDATE:20251102T020000
END:STANDARD
BEGIN:DAYLIGHT
TZNAME:EDT
DTSTART:20240310T020000
TZOFFSETFROM:-0500
TZOFFSETTO:-0400
RDATE:20250309T020000
END:DAYLIGHT
END:VTIMEZONE
BEGIN:VEVENT
UID:d8a16939-13fc-45ca-9c96-6a11ee29a783
DTSTAMP:20260421T125545Z
DESCRIPTION:Learn more about age-related changes in memory and learning\, a
 nd practices to keep your brain sharp! Learn what to expect\, what’s “norm
 al\,” and when it’s time to seek a doctor’s input.\n\nThis program is pres
 ented by the Insight Memory Care Team at the Vienna Community Center. Plea
 se contact the event contact listed below to register.
DTSTART;TZID=America/New_York:20240610T100000
DTEND;TZID=America/New_York:20240610T110000
LOCATION:Vienna Community Center\, 120 Cherry St. SE \, Vienna\, VA 22180 U
 S
SUMMARY:Brain Health as You Age
END:VEVENT
END:VCALENDAR
