BEGIN:VCALENDAR
VERSION:2.0
PRODID:-//www.insightmcc.org//NONSGML kigkonsult.se iCalcreator 2.30.10//
CALSCALE:GREGORIAN
METHOD:PUBLISH
UID:9b8d720e-1c0b-4446-a244-0b54a9a96ad2
X-WR-CALDESC:Join us in-person for this <b>5 week workshop series</b> as we
  explore many common caregiving topics together! Each weekly session will 
 include an educational portion\, group discussion\, and interactive activi
 ties as we digest and apply each chapter of Insight’s Caregiving at a Glan
 ce guide. Guest facilitators will also provide expert advice for each sess
 ion topic. A one-hour consultation is included at the end of the series to
  apply course learning to your specific family situation.\n\nTUESDAY\, MAY
  28: Chapter One: Dementia 101\nTUESDAY\, JUNE 4: Chapter Two: Activities 
 of Daily Living\nTUESDAY\, JUNE 11: Chapter Three: Communications & Behavi
 ors\nTUESDAY\, JUNE 18: Chapter Four: Activities\nTUESDAY\, JUNE 25: Chapt
 er Five: Safety\n\nThis cohort session has limited space in order to ensur
 e that everyone can actively participate. We know that as much as you can 
 learn from the experts\, you can also learn from each other along our shar
 ed caregiving journey!\n\nThis series is offered free of charge. Attendees
  will receive a Caregiving at a Glance guidebook and class materials. <b>W
 e recommend registering as soon as possible to ensure you receive course m
 aterials before the first workshop!</b>\n\n&nbsp\;\n<strong><a href='https
 ://insightmemory.app.neoncrm.com/eventReg.jsp?event=1393&' class='button'>
 Sign Me Up!</a></strong>\n\n<i> Many thanks to Elancé at West End for host
 ing this workshop series! </i>
X-WR-RELCALID:4cd1aaea657f5d7da33493584e7a78d0
X-WR-TIMEZONE:America/New_York
BEGIN:VTIMEZONE
TZID:America/New_York
BEGIN:STANDARD
TZNAME:EST
DTSTART:20231105T020000
TZOFFSETFROM:-0400
TZOFFSETTO:-0500
RDATE:20241103T020000
RDATE:20251102T020000
END:STANDARD
BEGIN:DAYLIGHT
TZNAME:EDT
DTSTART:20240310T020000
TZOFFSETFROM:-0500
TZOFFSETTO:-0400
RDATE:20250309T020000
END:DAYLIGHT
END:VTIMEZONE
BEGIN:VEVENT
UID:2f147672-b9ec-4b07-95a5-9048459a42a3
DTSTAMP:20260421T130043Z
DESCRIPTION:Join us in-person for this <b>5 week workshop series</b> as we 
 explore many common caregiving topics together! Each weekly session will i
 nclude an educational portion\, group discussion\, and interactive activit
 ies as we digest and apply each chapter of Insight’s Caregiving at a Glanc
 e guide. Guest facilitators will also provide expert advice for each sessi
 on topic. A one-hour consultation is included at the end of the series to 
 apply course learning to your specific family situation.\n\nTUESDAY\, MAY 
 28: Chapter One: Dementia 101\nTUESDAY\, JUNE 4: Chapter Two: Activities o
 f Daily Living\nTUESDAY\, JUNE 11: Chapter Three: Communications & Behavio
 rs\nTUESDAY\, JUNE 18: Chapter Four: Activities\nTUESDAY\, JUNE 25: Chapte
 r Five: Safety\n\nThis cohort session has limited space in order to ensure
  that everyone can actively participate. We know that as much as you can l
 earn from the experts\, you can also learn from each other along our share
 d caregiving journey!\n\nThis series is offered free of charge. Attendees 
 will receive a Caregiving at a Glance guidebook and class materials. <b>We
  recommend registering as soon as possible to ensure you receive course ma
 terials before the first workshop!</b>\n\n&nbsp\;\n<strong><a href='https:
 //insightmemory.app.neoncrm.com/eventReg.jsp?event=1393&' class='button'>S
 ign Me Up!</a></strong>\n\n<i> Many thanks to Elancé at West End for hosti
 ng this workshop series! </i>
DTSTART;TZID=America/New_York:20240611T190000
DTEND;TZID=America/New_York:20240611T203000
LOCATION:Elancé at West End\, 5550 Cardinal Pl\, Alexandria\, VA 22304 US
SUMMARY:Caregiving at a Glance Workshop Series
END:VEVENT
END:VCALENDAR
